BEGIN:VCALENDAR
VERSION:2.0
PRODID:-//ChamberMaster//Event Calendar 2.0//EN
METHOD:PUBLISH
X-PUBLISHED-TTL:P3D
REFRESH-INTERVAL:P3D
CALSCALE:GREGORIAN
BEGIN:VEVENT
DTSTART:20131029T223000Z
DTEND:20131127T023000Z
X-MICROSOFT-CDO-ALLDAYEVENT:FALSE
SUMMARY:Grant Writing Essentials
DESCRIPTION:This course teaches the skills new grant writers need to develop in order to write\n\nsuccessful grant proposals. Topics include: searching for grant makers\, how\n\nto write an abstract\, needs statement\, effective outcomes\, and a budget. The\n\ncourse will apply to both public and private grant writing situations. Students are\n\nexpected to have basic business and report writing skills.
X-ALT-DESC;FMTTYPE=text/html:This course teaches the skills new grant writers need to develop in order to write<br />\nsuccessful grant proposals. Topics include: searching for grant makers\, how<br />\nto write an abstract\, needs statement\, effective outcomes\, and a budget. The<br />\ncourse will apply to both public and private grant writing situations. Students are<br />\nexpected to have basic business and report writing skills.
LOCATION:Madison College West\, 302 S. Gammon
UID:e.1220.3322
SEQUENCE:3
DTSTAMP:20260419T151434Z
URL:http://greatermadisonchamber.chambermaster.com/events/details/grant-writing-essentials-10-29-2013-3322
END:VEVENT

END:VCALENDAR
