BEGIN:VCALENDAR
VERSION:2.0
PRODID:-//ChamberMaster//Event Calendar 2.0//EN
METHOD:PUBLISH
X-PUBLISHED-TTL:P3D
REFRESH-INTERVAL:P3D
CALSCALE:GREGORIAN
BEGIN:VEVENT
DTSTART;VALUE=DATE:20130211
DTEND;VALUE=DATE:20130212
TRANSP:TRANSPARENT
X-MICROSOFT-CDO-ALLDAYEVENT:TRUE
SUMMARY:Grapes & Hops
DESCRIPTION:Join us for our premier celebration of wine and beer\, featuring celebrity pourers.\n\nSpectacular  hors d'oeuvres! Learn tasting techniques and pairing from professionals.\n\nRelax to live acoustic music by Duane Worden.\n\nThis is a fundraiser for KANDU Industries. KANDU creates\, promotes and provides diverse opportunities within the community that offer persons with disabilities or disadvantages the opportunity to persue greater independence and meet their full potential.
X-ALT-DESC;FMTTYPE=text/html:Join us for our premier celebration of wine and beer\, featuring celebrity pourers.<br />\nSpectacular&nbsp\; hors d&#39\;oeuvres! Learn tasting techniques and pairing from professionals.<br />\nRelax to live acoustic music by Duane Worden.<br />\nThis is a fundraiser for KANDU Industries. KANDU creates\, promotes and provides diverse opportunities within the community that offer persons with disabilities or disadvantages the opportunity to persue greater independence and meet their full potential.<br />\n<br />\n
LOCATION:KANDU Industries\, 1741 Adel Street\, Janesville
UID:e.1220.2671
SEQUENCE:3
DTSTAMP:20260424T022000Z
URL:http://greatermadisonchamber.chambermaster.com/events/details/grapes-hops-02-11-2013-2671
END:VEVENT

END:VCALENDAR
