BEGIN:VCALENDAR
VERSION:2.0
PRODID:-//ChamberMaster//Event Calendar 2.0//EN
METHOD:PUBLISH
X-PUBLISHED-TTL:P3D
REFRESH-INTERVAL:P3D
CALSCALE:GREGORIAN
BEGIN:VEVENT
DTSTART:20130318T230000Z
DTEND:20130319T000000Z
X-MICROSOFT-CDO-ALLDAYEVENT:FALSE
SUMMARY:Group Ride
DESCRIPTION:Group Ride\n\nThe best way to learn how to commute? Get on your bike and ride! Join us for what we hope will be a monthly ride through Madison and enjoy the views as you ride with other new commuters and veterans alike! Join us after the ride for free refreshments at Redamte!
X-ALT-DESC;FMTTYPE=text/html:Group Ride<br />\nThe best way to learn how to commute? Get on your bike and ride! Join us for what we hope will be a monthly ride through Madison and enjoy the views as you ride with other new commuters and veterans alike! Join us after the ride for free refreshments at Redamte!<br />\n
LOCATION:Redamte (449 State St.\, Madison WI 53703)
UID:e.1220.2668
SEQUENCE:3
DTSTAMP:20260423T052932Z
URL:http://greatermadisonchamber.chambermaster.com/events/details/group-ride-03-18-2013-2668
END:VEVENT

END:VCALENDAR
