BEGIN:VCALENDAR
VERSION:2.0
PRODID:-//ChamberMaster//Event Calendar 2.0//EN
METHOD:PUBLISH
X-PUBLISHED-TTL:P3D
REFRESH-INTERVAL:P3D
CALSCALE:GREGORIAN
BEGIN:VEVENT
DTSTART:20131123T210000Z
DTEND:20131123T223000Z
X-MICROSOFT-CDO-ALLDAYEVENT:FALSE
SUMMARY:Handphibians Drum Circle and Performance
DESCRIPTION:An introduction to Latin percussion and hand drums. Interactive fun for all.
X-ALT-DESC;FMTTYPE=text/html:<table border="0" cellpadding="0" cellspacing="0" style="width: 302px\; border-collapse: collapse\;" width="227">\n	<colgroup>\n		<col style="width: 302px\;" />\n	</colgroup>\n	<tbody>\n		<tr height="45" style="height: 60px\;">\n			<td height="45" style="width: 302px\; height: 60px\;">\n				An introduction to Latin percussion and hand drums. Interactive fun for all.</td>\n		</tr>\n	</tbody>\n</table>\n<br />\n
LOCATION:Heid Music 7948 Tree Lane Madison\, WI 53717
UID:e.1220.3436
SEQUENCE:3
DTSTAMP:20260420T040548Z
URL:http://greatermadisonchamber.chambermaster.com/events/details/handphibians-drum-circle-and-performance-11-23-2013-3436
END:VEVENT

END:VCALENDAR
