BEGIN:VCALENDAR
VERSION:2.0
PRODID:-//ChamberMaster//Event Calendar 2.0//EN
METHOD:PUBLISH
X-PUBLISHED-TTL:P3D
REFRESH-INTERVAL:P3D
CALSCALE:GREGORIAN
BEGIN:VEVENT
DTSTART:20140118T160000Z
DTEND:20140118T180000Z
X-MICROSOFT-CDO-ALLDAYEVENT:FALSE
SUMMARY:Herzing University - Open House
DESCRIPTION:YOU?RE INVITED TO HERZING UNIVERSITY'S SATURDAY OPEN HOUSE! Where: Herzing University 5218 E. Terrace Dr. Madison\, WI 53718 When: Saturday\, January 18th from 10:00AM-12:00PM What: Please join us for a morning of information gathering\, question answering\, tour giving\, and fun! Let us help you figure out if Herzing University is an option for you. A light breakfast and refreshments will be provided as well. Please RSVP on our website at www.herzing.edu/madison/events or give us a call at 1-800-582-1227. We hope to see you then!
X-ALT-DESC;FMTTYPE=text/html:YOU?RE INVITED TO HERZING UNIVERSITY&#39\;S SATURDAY OPEN HOUSE! Where: Herzing University 5218 E. Terrace Dr. Madison\, WI 53718 When: Saturday\, January 18th from 10:00AM-12:00PM What: Please join us for a morning of information gathering\, question answering\, tour giving\, and fun! Let us help you figure out if Herzing University is an option for you. A light breakfast and refreshments will be provided as well. Please RSVP on our website at www.herzing.edu/madison/events or give us a call at 1-800-582-1227. We hope to see you then! 
LOCATION:Herzing Univeristy 5218 East Terrace Dr Madison\, WI 53718
UID:e.1220.3526
SEQUENCE:3
DTSTAMP:20260421T114748Z
URL:http://greatermadisonchamber.chambermaster.com/events/details/herzing-university-open-house-01-18-2014-3526
END:VEVENT

END:VCALENDAR
