BEGIN:VCALENDAR
VERSION:2.0
PRODID:-//ChamberMaster//Event Calendar 2.0//EN
METHOD:PUBLISH
X-PUBLISHED-TTL:P3D
REFRESH-INTERVAL:P3D
CALSCALE:GREGORIAN
BEGIN:VEVENT
DTSTART:20130411T133000Z
DTEND:20130425T213000Z
X-MICROSOFT-CDO-ALLDAYEVENT:FALSE
SUMMARY:High Performance Leadership Series
DESCRIPTION:Your next step in leadership development\n\nLeaders at all levels are continuously learning and growing whether through on-the-job experiences or planned learning opportunities. If you are looking for a way to enhance your skills to help you succeed in the challenging role of the leader in your organization then check out our High Performance Leadership Series.\n\n This three program series will help you sharpen the tough skills of influencing and motivating people to perform\, grow and thrive during the ever present change we all live with.
X-ALT-DESC;FMTTYPE=text/html:<p><em><strong>Your next step in leadership development</strong></em></p>\n\n<p>Leaders at all levels are continuously learning and growing whether through on-the-job experiences or planned learning opportunities. If you are looking for a way to enhance your skills to help you succeed in the challenging role of the leader in your organization then check out our <strong>High Performance Leadership Series</strong>.</p>\n\n<p>&nbsp\;This three program series will help you sharpen the tough skills of influencing and motivating people to perform\, grow and thrive during the ever present change we all live with.</p>\n
LOCATION:UW Madison Grainger Hall 975 University Ave
UID:e.1220.2746
SEQUENCE:3
DTSTAMP:20260423T033417Z
URL:http://greatermadisonchamber.chambermaster.com/events/details/high-performance-leadership-series-04-11-2013-2746
END:VEVENT

END:VCALENDAR
