BEGIN:VCALENDAR
VERSION:2.0
PRODID:-//ChamberMaster//Event Calendar 2.0//EN
METHOD:PUBLISH
X-PUBLISHED-TTL:P3D
REFRESH-INTERVAL:P3D
CALSCALE:GREGORIAN
BEGIN:VEVENT
DTSTART:20121213T230000Z
DTEND:20121214T020000Z
X-MICROSOFT-CDO-ALLDAYEVENT:FALSE
SUMMARY:Holiday Glow on Monroe
DESCRIPTION:Two hundred luminarias will light the way for shoppers visiting Monroe Street's locally-owned shops and restaurants on Thursday\, December 13 from 5:00 to 8:00. Participating businesses from the 1500 to the 3500 blocks of Monroe Street will offer a passport listing activities that include entertainment\, a wine tasting\, drink and dining specials\, sales\, free gifts\, and refreshments. For more information call 255-8211 or visit www.monroestreetmadison.com
X-ALT-DESC;FMTTYPE=text/html:<span style="font-family: 'helvetica'\, 'sans-serif'\; font-size: 9pt">Two hundred luminarias will light the way for shoppers visiting Monroe Street&rsquo\;s locally-owned shops and restaurants on Thursday\, December 13 from 5:00 to 8:00. Participating businesses from the 1500 to the 3500 blocks of Monroe Street will offer a passport listing activities that include entertainment\, a wine tasting\, drink and dining specials\, sales\, free gifts\, and refreshments. For more information call 255-8211 or visit <a href="https://bl2prd0412.outlook.com/owa/redir.aspx?C=jyTH2oCrr0a-PYkkInpihIoz5UEqpc8ILeCx98O2cnWuxvKbJpJ0FL-Q3cUqlGy8BSswiLzf2Ew.&amp\;URL=http%3a%2f%2fwww.monroestreetmadison.com" target="_blank"><span style="color: #0726a7">www.monroestreetmadison.com</span></a></span>
LOCATION:Monroe St.\, Madison
UID:e.1220.2541
SEQUENCE:3
DTSTAMP:20260426T022950Z
URL:http://greatermadisonchamber.chambermaster.com/events/details/holiday-glow-on-monroe-12-13-2012-2541
END:VEVENT

END:VCALENDAR
