BEGIN:VCALENDAR
VERSION:2.0
PRODID:-//ChamberMaster//Event Calendar 2.0//EN
METHOD:PUBLISH
X-PUBLISHED-TTL:P3D
REFRESH-INTERVAL:P3D
CALSCALE:GREGORIAN
BEGIN:VEVENT
DTSTART:20130307T000000Z
DTEND:20130404T020000Z
X-MICROSOFT-CDO-ALLDAYEVENT:FALSE
SUMMARY:HTML and CSS Basics for Web
DESCRIPTION:In "HTML and CSS Basics for Web" students will begin with basic principles of using HTML to display and format text and move on to adding images and links\, making tables and frames\, and creating forms. Students will learn about style sheets (CSS) and how to use them to format text and control page layout. After incorporating JavaScript and multimedia effect\, students will learn how to publish pages on the web.
X-ALT-DESC;FMTTYPE=text/html:In &quot\;HTML and CSS Basics for Web&quot\; students will begin with basic principles of using HTML to display and format text and move on to adding images and links\, making tables and frames\, and creating forms. Students will learn about style sheets (CSS) and how to use them to format text and control page layout. After incorporating JavaScript and multimedia effect\, students will learn how to publish pages on the web. 
LOCATION:211 N. Carrol Street Madison\, WI 53703
UID:e.1220.2683
SEQUENCE:3
DTSTAMP:20260423T030745Z
URL:http://greatermadisonchamber.chambermaster.com/events/details/html-and-css-basics-for-web-03-06-2013-2683
END:VEVENT

END:VCALENDAR
