BEGIN:VCALENDAR
VERSION:2.0
PRODID:-//ChamberMaster//Event Calendar 2.0//EN
METHOD:PUBLISH
X-PUBLISHED-TTL:P3D
REFRESH-INTERVAL:P3D
CALSCALE:GREGORIAN
BEGIN:VEVENT
DTSTART:20130416T230000Z
DTEND:20130515T020000Z
X-MICROSOFT-CDO-ALLDAYEVENT:FALSE
SUMMARY:HTML and CSS Basics for Web
DESCRIPTION:In "HTML and CSS Basics for Web" students will begin with basic principles of using HTML to display and format text and move on to adding images and links\, making tables and frames\, and creating forms\, as well as style sheets (CSS)\, javascript\, and multimedia effects\, students will learn how to publish pages to the web. Intermediate - level skills are recommended.
X-ALT-DESC;FMTTYPE=text/html:<p>\n	In &quot\;HTML and CSS Basics for Web&quot\; students will begin with basic principles of using HTML to display and format text and move on to adding images and links\, making tables and frames\, and creating forms\, as well as style sheets (CSS)\, javascript\, and multimedia effects\, students will learn how to publish pages to the web. Intermediate - level skills are recommended.</p>\n
LOCATION:302 S. Gammon Rd.\, Madison\, WI 53713
UID:e.1220.2759
SEQUENCE:3
DTSTAMP:20260423T005515Z
URL:http://greatermadisonchamber.chambermaster.com/events/details/html-and-css-basics-for-web-04-16-2013-2759
END:VEVENT

END:VCALENDAR
