BEGIN:VCALENDAR
VERSION:2.0
PRODID:-//ChamberMaster//Event Calendar 2.0//EN
METHOD:PUBLISH
X-PUBLISHED-TTL:P3D
REFRESH-INTERVAL:P3D
CALSCALE:GREGORIAN
BEGIN:VEVENT
DTSTART:20130722T230000Z
DTEND:20130820T020000Z
X-MICROSOFT-CDO-ALLDAYEVENT:FALSE
SUMMARY:HTML and CSS Basics for Web
DESCRIPTION:In "HTML and CSS Basics for Web" students will begin with basic principles of using HTML to display and format text and move on to adding images and links\, making tables and frames\, and creating forms\, as well as style sheets (CSS)\, javascript\, and multimedia effects\, students will learn how to publish pages to the web.
X-ALT-DESC;FMTTYPE=text/html:<p>\n	In &quot\;HTML and CSS Basics for Web&quot\; students will begin with basic principles of using HTML to display and format text and move on to adding images and links\, making tables and frames\, and creating forms\, as well as style sheets (CSS)\, javascript\, and multimedia effects\, students will learn how to publish pages to the web.</p>\n
LOCATION:211 N. Carroll St.\, Madison\, WI. 53703
UID:e.1220.2949
SEQUENCE:3
DTSTAMP:20260419T205119Z
URL:http://greatermadisonchamber.chambermaster.com/events/details/html-and-css-basics-for-web-07-22-2013-2949
END:VEVENT

END:VCALENDAR
