BEGIN:VCALENDAR
VERSION:2.0
PRODID:-//ChamberMaster//Event Calendar 2.0//EN
METHOD:PUBLISH
X-PUBLISHED-TTL:P3D
REFRESH-INTERVAL:P3D
CALSCALE:GREGORIAN
BEGIN:VEVENT
DTSTART:20130829T230000Z
DTEND:20130926T020000Z
X-MICROSOFT-CDO-ALLDAYEVENT:FALSE
SUMMARY:HTML and CSS Basics for Web
DESCRIPTION:Students will begin with basic principles of using HTML to display and format text and move on to adding images and links\, making tables and frames\, and creating forms\, as well as style sheets (CSS)\, javascript\, and multimedia effects.
X-ALT-DESC;FMTTYPE=text/html:<p>\n	Students will begin with basic principles of using HTML to display and format text and move on to adding images and links\, making tables and frames\, and creating forms\, as well as style sheets (CSS)\, javascript\, and multimedia effects.</p>\n
LOCATION:302 S. Gammon Road Madison\, WI 53717
UID:e.1220.3168
SEQUENCE:3
DTSTAMP:20260419T205119Z
URL:http://greatermadisonchamber.chambermaster.com/events/details/html-and-css-basics-for-web-08-29-2013-3168
END:VEVENT

END:VCALENDAR
