BEGIN:VCALENDAR
VERSION:2.0
PRODID:-//ChamberMaster//Event Calendar 2.0//EN
METHOD:PUBLISH
X-PUBLISHED-TTL:P3D
REFRESH-INTERVAL:P3D
CALSCALE:GREGORIAN
BEGIN:VEVENT
DTSTART:20130319T130000Z
DTEND:20130319T163000Z
X-MICROSOFT-CDO-ALLDAYEVENT:FALSE
SUMMARY:Increasing Your Strategic Influence
DESCRIPTION:How can we proactively influence decision making at our organization's strategic level rather than reacting to plans made without us? Come learn from a veteran consultant who has over a decade of experience working directly with both CEO's and HR professionals.\n\n	 \n\n	Cay Villars will share specific tools and insights both for gaining influence if you are relatively new to your HR position or long established and wanting to have more say. She will lead us in making (and implementing!)\, specific plans for joining the executive team\, either formally or informally\, and increasing your influence if you are already there. Together we'll explore what you need to know in order to take a CEO's perspective\, and how to be in rapport with their wide range of types and needs. And if you are considering a search for a new organization\, we'll consider how to position your resume and what to ask to determine the opportunity and fit.
X-ALT-DESC;FMTTYPE=text/html:How can we proactively influence decision making at our organization&rsquo\;s strategic level rather than reacting to plans made without us? Come learn from a veteran consultant who has over a decade of experience working directly with both CEO&rsquo\;s and HR professionals.\n<div>\n	&nbsp\;</div>\n<div>\n	Cay Villars will share specific tools and insights both for gaining influence if you are relatively new to your HR position or long established and wanting to have more say. She will lead us in making (and implementing!)\, specific plans for joining the executive team\, either formally or informally\, and increasing your influence if you are already there. Together we&rsquo\;ll explore what you need to know in order to take a CEO&rsquo\;s perspective\, and how to be in rapport with their wide range of types and needs. And if you are considering a search for a new organization\, we&rsquo\;ll consider how to position your resume and what to ask to determine the opportunity and fit.</div>\n
LOCATION:Alliant Energy Center
UID:e.1220.2587
SEQUENCE:3
DTSTAMP:20260426T032001Z
URL:http://greatermadisonchamber.chambermaster.com/events/details/increasing-your-strategic-influence-03-19-2013-2587
END:VEVENT

END:VCALENDAR
