BEGIN:VCALENDAR
VERSION:2.0
PRODID:-//ChamberMaster//Event Calendar 2.0//EN
METHOD:PUBLISH
X-PUBLISHED-TTL:P3D
REFRESH-INTERVAL:P3D
CALSCALE:GREGORIAN
BEGIN:VEVENT
DTSTART:20130410T230000Z
DTEND:20130411T003000Z
X-MICROSOFT-CDO-ALLDAYEVENT:FALSE
SUMMARY:Information Session for Evening and Executive MBA
DESCRIPTION:Please join the staff and students of the Evening and Executive MBA programs to learn more about our MBA programs for working professionals. The info session will include an overview of our programs followed by a Q & A with current students. For more information contact us at emba@bus.wisc.edu or 608-263-1169. Check-in begins at 5:45 PM. Walk-in registration is welcome.
X-ALT-DESC;FMTTYPE=text/html:<span class="time"><span style="line-height: 115%\; font-family: 'calibri'\, 'sans-serif'\; font-size: 11pt\; mso-fareast-font-family: calibri\; mso-bidi-font-family: 'times new roman'\; mso-ansi-language: en-us\; mso-fareast-language: en-us\; mso-bidi-language: ar-sa"><font color="#000000">Please join the staff and students of the Evening and Executive MBA programs to </font></span></span><span class="description"><span style="line-height: 115%\; font-family: 'calibri'\, 'sans-serif'\; font-size: 11pt\; mso-fareast-font-family: calibri\; mso-bidi-font-family: 'times new roman'\; mso-ansi-language: en-us\; mso-fareast-language: en-us\; mso-bidi-language: ar-sa"><font color="#000000">learn more about our MBA programs for working professionals. The info session will include an overview of our programs followed by a Q &amp\; A with current students. For more information contact us at </font><a href="mailto:emba@bus.wisc.edu"><font color="#0000ff">emba@bus.wisc.edu</font></a><font color="#000000"> or 608-263-1169. Check-in begins at 5:45 PM. Walk-in registration is welcome.</font></span></span>
LOCATION:Grainger Hall 2339
UID:e.1220.2532
SEQUENCE:3
DTSTAMP:20260425T102646Z
URL:http://greatermadisonchamber.chambermaster.com/events/details/information-session-for-evening-and-executive-mba-04-10-2013-2532
END:VEVENT

END:VCALENDAR
