BEGIN:VCALENDAR
VERSION:2.0
PRODID:-//ChamberMaster//Event Calendar 2.0//EN
METHOD:PUBLISH
X-PUBLISHED-TTL:P3D
REFRESH-INTERVAL:P3D
CALSCALE:GREGORIAN
BEGIN:VEVENT
DTSTART:20130805T230000Z
DTEND:20130806T010000Z
X-MICROSOFT-CDO-ALLDAYEVENT:FALSE
SUMMARY:Information Technology Open House at Herzing University
DESCRIPTION:Are you or someone you know thinking about technology as a career opportunity? There are lots of jobs out there\, but many people do not have the education to match. The Herzing technology department will host an open house on August 5th from 6-8PM to help the community learn more about these opportunities. Refreshments provided.
X-ALT-DESC;FMTTYPE=text/html:<span itemprop="description"><span class="fsl">Are you or someone you know thinking about <strong>technology </strong>as a career opportunity? There are lots of jobs out there\, but many people do not have the education to match. The Herzing technology department will host an open house on August 5th from 6-8PM to help the community learn more about these opportunities. Refreshments provided.</span></span>
LOCATION:Herzing University- Madison East campus\, 5218 E. Terrace Drive\, Madison\, WI
UID:e.1220.3189
SEQUENCE:3
DTSTAMP:20260423T155129Z
URL:http://greatermadisonchamber.chambermaster.com/events/details/information-technology-open-house-at-herzing-university-08-05-2013-3189
END:VEVENT

END:VCALENDAR
