BEGIN:VCALENDAR
VERSION:2.0
PRODID:-//ChamberMaster//Event Calendar 2.0//EN
METHOD:PUBLISH
X-PUBLISHED-TTL:P3D
REFRESH-INTERVAL:P3D
CALSCALE:GREGORIAN
BEGIN:VEVENT
DTSTART:20130327T133000Z
DTEND:20130327T170000Z
X-MICROSOFT-CDO-ALLDAYEVENT:FALSE
SUMMARY:Intermediate Google analytics
DESCRIPTION:This workshop moves beyond basic traffic reporting and using advanced features of Google Analytics. Various ways to view and customize reports will be demonstrated. Participants will learn how to use and interpret Google Analytics reports to identify specific items to address in optimizing website performance.
X-ALT-DESC;FMTTYPE=text/html:This workshop moves beyond basic traffic reporting and using advanced features of Google Analytics. Various ways to view and customize reports will be demonstrated. Participants will learn how to use and interpret Google Analytics reports to identify specific items to address in optimizing website performance.<br />\n
LOCATION:UW Madison Grainger Hall 975 University Ave
UID:e.1220.2695
SEQUENCE:3
DTSTAMP:20260423T030745Z
URL:http://greatermadisonchamber.chambermaster.com/events/details/intermediate-google-analytics-03-27-2013-2695
END:VEVENT

END:VCALENDAR
