BEGIN:VCALENDAR
VERSION:2.0
PRODID:-//ChamberMaster//Event Calendar 2.0//EN
METHOD:PUBLISH
X-PUBLISHED-TTL:P3D
REFRESH-INTERVAL:P3D
CALSCALE:GREGORIAN
BEGIN:VEVENT
DTSTART:20130716T233000Z
DTEND:20130814T023000Z
X-MICROSOFT-CDO-ALLDAYEVENT:FALSE
SUMMARY:Intro to Programming with Java
DESCRIPTION:This course is for people who have no prior programming experience\; topics will include variables\, data types\, arithmetic operations and precedence\, string operations\, logical operations\, loops\, comments\, operator input\, and more.
X-ALT-DESC;FMTTYPE=text/html:<p>\n	This course is for people who have no prior programming experience\; topics will include variables\, data types\, arithmetic operations and precedence\, string operations\, logical operations\, loops\, comments\, operator input\, and more.</p>\n
LOCATION:302 S. Gammon Rd.\, Madison\, WI. 53717
UID:e.1220.2950
SEQUENCE:3
DTSTAMP:20260419T205119Z
URL:http://greatermadisonchamber.chambermaster.com/events/details/intro-to-programming-with-java-07-16-2013-2950
END:VEVENT

END:VCALENDAR
