BEGIN:VCALENDAR
VERSION:2.0
PRODID:-//ChamberMaster//Event Calendar 2.0//EN
METHOD:PUBLISH
X-PUBLISHED-TTL:P3D
REFRESH-INTERVAL:P3D
CALSCALE:GREGORIAN
BEGIN:VEVENT
DTSTART:20130508T230000Z
DTEND:20130516T013000Z
X-MICROSOFT-CDO-ALLDAYEVENT:FALSE
SUMMARY:iPhones\, iPads\, and Mobile Apps
DESCRIPTION:Students have until the day before the class starts to register for online\, accelerated and short-term classes. After that point\, students must obtain permission from the instructor to register and will have until the last date to enroll to use the permission granted to register. For all other classes\, students have until the last date to enroll if seats are available.
X-ALT-DESC;FMTTYPE=text/html:<p>Students have until the day before the class starts to register for online\, accelerated and short-term classes. After that point\, students must obtain permission from the instructor to register and will have until the last date to enroll to use the permission granted to register. For all other classes\, students have until the last date to enroll if seats are available.</p>\n
LOCATION:211 N. Carrol Street Madison\, WI 53703
UID:e.1220.2676
SEQUENCE:3
DTSTAMP:20260422T201005Z
URL:http://greatermadisonchamber.chambermaster.com/events/details/iphones-ipads-and-mobile-apps-05-08-2013-2676
END:VEVENT

END:VCALENDAR
