BEGIN:VCALENDAR
VERSION:2.0
PRODID:-//ChamberMaster//Event Calendar 2.0//EN
METHOD:PUBLISH
X-PUBLISHED-TTL:P3D
REFRESH-INTERVAL:P3D
CALSCALE:GREGORIAN
BEGIN:VEVENT
DTSTART:20140729T230000Z
DTEND:20140801T013000Z
X-MICROSOFT-CDO-ALLDAYEVENT:FALSE
SUMMARY:iPhones\, iPads\, and Mobile Apps
DESCRIPTION:Increase productivity and learn how to get the most of the iPad or iPhone. Organize information\, edit photographs and videos\, compose messages\, and more. Learn about using the iTunes Store to get apps\, music\, movies\, books\, and more.
X-ALT-DESC;FMTTYPE=text/html:Increase productivity and learn how to get the most of the iPad or iPhone. Organize information\, edit photographs and videos\, compose messages\, and more. Learn about using the iTunes Store to get apps\, music\, movies\, books\, and more.
LOCATION:Madison College West\, 302 S. Gammon Rd.
UID:e.1220.3934
SEQUENCE:3
DTSTAMP:20260421T083508Z
URL:http://greatermadisonchamber.chambermaster.com/events/details/iphones-ipads-and-mobile-apps-07-29-2014-3934
END:VEVENT

END:VCALENDAR
