BEGIN:VCALENDAR
VERSION:2.0
PRODID:-//ChamberMaster//Event Calendar 2.0//EN
METHOD:PUBLISH
X-PUBLISHED-TTL:P3D
REFRESH-INTERVAL:P3D
CALSCALE:GREGORIAN
BEGIN:VEVENT
DTSTART:20130509T180000Z
DTEND:20130509T193000Z
X-MICROSOFT-CDO-ALLDAYEVENT:FALSE
SUMMARY:Is an E-reader Right for me?
DESCRIPTION:E-readers have become an attractive alternative option for reading--especially for individuals with low vision.  Join us on Thursday\, May 9\, 2013\, for the free webinar "Is an E-reader Right for me?" \n\n\n\nPresenters are Jane Jorgenson\, Home Services Coordinator for the Madison Public Library\, and Jean Kalscheur\, Vision Rehabilitation Teacher for the Wisconsin Council of the Blind & Visually Impaired.  Jane and Jean will demonstrate the accessibility features of the iPad\, Kindle and Nook and answer your questions. \n\n\n\nThere is no fee for this webinar\; however\, registration is required.  Visit www.wcblind.org and click on the "Events" tab to learn more about this program and to register.
X-ALT-DESC;FMTTYPE=text/html:E-readers have become an attractive alternative option for reading--especially for individuals with low vision.&nbsp\; Join us on Thursday\, May 9\, 2013\, for the free webinar &quot\;Is an E-reader Right for me?&quot\;&nbsp\;<br />\n<br />\nPresenters are Jane Jorgenson\, Home Services Coordinator for the Madison Public Library\, and Jean Kalscheur\, Vision Rehabilitation Teacher for the Wisconsin Council of the Blind &amp\; Visually Impaired.&nbsp\; Jane and Jean will demonstrate the accessibility features of the iPad\, Kindle and Nook and answer your questions.&nbsp\;<br />\n<br />\nThere is no fee for this webinar\; however\, registration is required.&nbsp\; Visit <a href="http://www.wcblind.org">www.wcblind.org</a> and click on the &quot\;Events&quot\; tab to learn more about this program and to register.
LOCATION:
UID:e.1220.2821
SEQUENCE:3
DTSTAMP:20260421T235624Z
URL:http://greatermadisonchamber.chambermaster.com/events/details/is-an-e-reader-right-for-me-05-09-2013-2821
END:VEVENT

END:VCALENDAR
