BEGIN:VCALENDAR
VERSION:2.0
PRODID:-//ChamberMaster//Event Calendar 2.0//EN
METHOD:PUBLISH
X-PUBLISHED-TTL:P3D
REFRESH-INTERVAL:P3D
CALSCALE:GREGORIAN
BEGIN:VEVENT
DTSTART:20130826T230000Z
DTEND:20131022T013000Z
X-MICROSOFT-CDO-ALLDAYEVENT:FALSE
SUMMARY:Japanese 1
DESCRIPTION:"Japanese 1" will explore basic pronunciation\, alphabet\, numbers\, foods\, and travel with very elementary\, uncomplicated verbal communication
X-ALT-DESC;FMTTYPE=text/html:&quot\;Japanese 1&quot\; will explore basic pronunciation\, alphabet\, numbers\, foods\, and travel with very elementary\, uncomplicated verbal communication
LOCATION:1701 Wright St. Madison\, WI 53704
UID:e.1220.3176
SEQUENCE:3
DTSTAMP:20260421T111351Z
URL:http://greatermadisonchamber.chambermaster.com/events/details/japanese-1-08-26-2013-3176
END:VEVENT

END:VCALENDAR
