BEGIN:VCALENDAR
VERSION:2.0
PRODID:-//ChamberMaster//Event Calendar 2.0//EN
METHOD:PUBLISH
X-PUBLISHED-TTL:P3D
REFRESH-INTERVAL:P3D
CALSCALE:GREGORIAN
BEGIN:VEVENT
DTSTART:20131028T233000Z
DTEND:20131121T030000Z
X-MICROSOFT-CDO-ALLDAYEVENT:FALSE
SUMMARY:Lean Business Planning
DESCRIPTION:In this program\, you will use LEAN Startup and growth tools to identify your customers and determine their needs. You will analyze that information and incorporate it into a feasible business plan.\n\n\n\nA written business plan helps you control your business rather than letting it control you. Attend this workshop to learn the business planning process and start writing your plan. Discover how to target your market\, analyze competitors\, and examine your strengths and weaknesses. Learn how to set goals and develop financial projections. At the end of the six sessions\, you should have a first draft of your plan. Includes a comprehensive business planning text valued at $45!
X-ALT-DESC;FMTTYPE=text/html:In this program\, you will use LEAN Startup and growth tools to identify your customers and determine their needs. You will analyze that information and incorporate it into a feasible business plan.<br />\n<br />\nA written business plan helps you control your business rather than letting it control you. Attend this workshop to learn the business planning process and start writing your plan. Discover how to target your market\, analyze competitors\, and examine your strengths and weaknesses. Learn how to set goals and develop financial projections. At the end of the six sessions\, you should have a first draft of your plan. Includes a comprehensive business planning text valued at $45!
LOCATION:UW Madison Grainger Hall 975 University Ave
UID:e.1220.3310
SEQUENCE:3
DTSTAMP:20260419T135353Z
URL:http://greatermadisonchamber.chambermaster.com/events/details/lean-business-planning-10-28-2013-3310
END:VEVENT

END:VCALENDAR
