BEGIN:VCALENDAR
VERSION:2.0
PRODID:-//ChamberMaster//Event Calendar 2.0//EN
METHOD:PUBLISH
X-PUBLISHED-TTL:P3D
REFRESH-INTERVAL:P3D
CALSCALE:GREGORIAN
BEGIN:VEVENT
DTSTART;VALUE=DATE:20130924
DTEND;VALUE=DATE:20131121
TRANSP:TRANSPARENT
X-MICROSOFT-CDO-ALLDAYEVENT:TRUE
SUMMARY:Lean Business Planning - Entrepreneurial Training Program
DESCRIPTION:This is a comprehensive combination of courses\, individual coaching and business plan development that is designed to help entrepreneurs develop business skills and attract financing. This program is available for start-up ventures or business expansion.\n\n \n\nIn this program\, you will use LEAN Startup and growth tools to identify your customers and determine their needs.  You will analyze that information and incorporate it into a feasible business plan.
X-ALT-DESC;FMTTYPE=text/html:<p>This is a comprehensive combination of courses\, individual coaching and business plan development that is designed to help entrepreneurs develop business skills and attract financing. This program is available for start-up ventures or business expansion.</p>\n\n<p>&nbsp\;</p>\n\n<p>In this program\, you will use LEAN Startup and growth tools to identify your customers and determine their needs.&nbsp\; You will analyze that information and incorporate it into a feasible business plan.</p>\n\n<p>&nbsp\;</p>\n
LOCATION:UW Madison Grainger Hall 975 University Ave
UID:e.1220.3248
SEQUENCE:3
DTSTAMP:20260421T040435Z
URL:http://greatermadisonchamber.chambermaster.com/events/details/lean-business-planning-entrepreneurial-training-program-09-24-2013-3248
END:VEVENT

END:VCALENDAR
