BEGIN:VCALENDAR
VERSION:2.0
PRODID:-//ChamberMaster//Event Calendar 2.0//EN
METHOD:PUBLISH
X-PUBLISHED-TTL:P3D
REFRESH-INTERVAL:P3D
CALSCALE:GREGORIAN
BEGIN:VEVENT
DTSTART:20131016T170000Z
DTEND:20131016T180000Z
X-MICROSOFT-CDO-ALLDAYEVENT:FALSE
SUMMARY:Learning Lab: Finance Your Dream
DESCRIPTION:Many of us say we'd pursue our dream if only we had the money to do it. Is that really the case\, or is it just an excuse? Join Marisa Menzel of Wisconsin Financial Group to discuss the practical\, concrete steps you can take to secure the finances you need to pursue your dream. You'll leave this session inspired and armed with simple action items to get your pocketbook ready for the journey.
X-ALT-DESC;FMTTYPE=text/html:<span style="color: black\; font-family: &quot\;Calibri&quot\;\, &quot\;sans-serif&quot\;\; font-size: 11pt\; mso-fareast-font-family: Calibri\; mso-ansi-language: EN-US\; mso-fareast-language: EN-US\; mso-bidi-language: AR-SA\; mso-fareast-theme-font: minor-latin\; mso-ascii-theme-font: minor-latin\; mso-hansi-theme-font: minor-latin\; mso-bidi-font-family: &quot\;Times New Roman&quot\;\; mso-themecolor: text1\;"><font face="Calibri">Many of us say we&rsquo\;d pursue our dream if only we had the money to do it. Is that really the case\, or is it just an excuse? Join Marisa Menzel of Wisconsin Financial Group to discuss the practical\, concrete steps you can take to secure the finances you need to pursue your dream. You&rsquo\;ll leave this session inspired and armed with simple action items to get your pocketbook ready for the journey. </font></span>
LOCATION:DreamBank. 1 N Pinckney St
UID:e.1220.3263
SEQUENCE:3
DTSTAMP:20260419T135353Z
URL:http://greatermadisonchamber.chambermaster.com/events/details/learning-lab-finance-your-dream-10-16-2013-3263
END:VEVENT

END:VCALENDAR
