BEGIN:VCALENDAR
VERSION:2.0
PRODID:-//ChamberMaster//Event Calendar 2.0//EN
METHOD:PUBLISH
X-PUBLISHED-TTL:P3D
REFRESH-INTERVAL:P3D
CALSCALE:GREGORIAN
BEGIN:VEVENT
DTSTART:20131106T180000Z
DTEND:20131106T190000Z
X-MICROSOFT-CDO-ALLDAYEVENT:FALSE
SUMMARY:Learning Lab: Gratitude Party!
DESCRIPTION:We're throwing a gratitude party! Head over to DreamBank during your lunch break to create a colorful note or card to thank the people in your life you are grateful for. Professional life coach Sarah Young will explain the power of practicing gratitude in our everyday lives\, and then we'll spend the rest of the time unleashing our written and artistic talents through heartfelt notes. You'll walk out of the workshop feeling refreshed and grateful for life's many gifts.
X-ALT-DESC;FMTTYPE=text/html:<p class="MsoNormal" style="margin: 0in 0in 0pt\; line-height: normal\;">\n	<span style="color: black\; font-size: 12pt\; mso-bidi-font-family: Arial\; mso-themecolor: text1\;"><font face="Calibri">We&#39\;re throwing a gratitude party! Head over to DreamBank during your lunch break to create a colorful note or card to thank the people in your life you are grateful for. Professional life coach Sarah Young will explain the power of practicing gratitude in our everyday lives\, and then we&#39\;ll spend the rest of the time unleashing our written and artistic talents through heartfelt notes. You&#39\;ll walk out of the workshop feeling refreshed and grateful for life&rsquo\;s many gifts. <o:p></o:p></font></span></p>\n
LOCATION:DreamBank. 1 N Pinckney St. Madison WI
UID:e.1220.3331
SEQUENCE:3
DTSTAMP:20260422T004304Z
URL:http://greatermadisonchamber.chambermaster.com/events/details/learning-lab-gratitude-party-11-06-2013-3331
END:VEVENT

END:VCALENDAR
