BEGIN:VCALENDAR
VERSION:2.0
PRODID:-//ChamberMaster//Event Calendar 2.0//EN
METHOD:PUBLISH
X-PUBLISHED-TTL:P3D
REFRESH-INTERVAL:P3D
CALSCALE:GREGORIAN
BEGIN:VEVENT
DTSTART:20140507T170000Z
DTEND:20140507T180000Z
X-MICROSOFT-CDO-ALLDAYEVENT:FALSE
SUMMARY:LEARNING LAB - Rebuild Your Resume Workshop
DESCRIPTION:Join hiring experts from Omni Resources for a free resume rebuilding workshop! This special event is ideal for dreamers pursuing a career shift\, or a new job after a long tenure at one company. Bring your resume for one-on-one guidance\, and learn what simple changes you can make to attract the right recruiters.
X-ALT-DESC;FMTTYPE=text/html:Join hiring experts from Omni Resources for a free resume rebuilding workshop! This special event is ideal for dreamers pursuing a career shift\, or a new job after a long tenure at one company. Bring your resume for one-on-one guidance\, and learn what simple changes you can make to attract the right recruiters.
LOCATION:DreamBank 1 N. Pinckney St. Madison WI
UID:e.1220.3719
SEQUENCE:3
DTSTAMP:20260425T102646Z
URL:http://greatermadisonchamber.chambermaster.com/events/details/learning-lab-rebuild-your-resume-workshop-05-07-2014-3719
END:VEVENT

END:VCALENDAR
