BEGIN:VCALENDAR
VERSION:2.0
PRODID:-//ChamberMaster//Event Calendar 2.0//EN
METHOD:PUBLISH
X-PUBLISHED-TTL:P3D
REFRESH-INTERVAL:P3D
CALSCALE:GREGORIAN
BEGIN:VEVENT
DTSTART;VALUE=DATE:20130809
DTEND;VALUE=DATE:20130819
TRANSP:TRANSPARENT
X-MICROSOFT-CDO-ALLDAYEVENT:TRUE
SUMMARY:Les Miserables
DESCRIPTION:Les Mis rables is now the world's longest-running musical\, seen by over 60 million people in 42 countries. Discover a nation in the grip of revolution\, where convict Jean Valjean is on the run. Hunted relentlessly by the policeman Javert for breaking his parole\, he must leave his past behind and keep his vow to raise the young orphaned Cosette. But with revolution in the air and Javert closing in\, Jean Valjean has no choice but to fight for his life and sacrifice everything to protect the people he loves.\n\n\n\n\n	Tickets for the Four Seasons Theatre production of Les Miserables are on sale now onlinethrough the Mitby Theater Box Office. Ticket prices ($35\, $30\, $25) are dependent on seating location.  Ticket fees are only $1/ticket.  We recommend purchasing online and printing your tickets at home so you can avoid lines at Will Call on the day of the performance.\n\n	No children under age 6 will be permitted.\n\n	Running time is approximately 2 hours and 45 minutes.
X-ALT-DESC;FMTTYPE=text/html:<em style="color: rgb(82\, 82\, 82)\; line-height: 19.79px\; font-family: &quot\;Lucida Sans Unicode&quot\;\, &quot\;Lucida Grande&quot\;\, Tahoma\, sans-serif\; font-size: 13px\;">Les Mis&eacute\;rables</em><span style="color: rgb(82\, 82\, 82)\; line-height: 19.79px\; font-family: &quot\;Lucida Sans Unicode&quot\;\, &quot\;Lucida Grande&quot\;\, Tahoma\, sans-serif\; font-size: 13px\;">&nbsp\;is now the world&rsquo\;s longest-running musical\, seen by over 60 million people in 42 countries. Discover a nation in the grip of revolution\, where convict Jean Valjean is on the run. Hunted relentlessly by the policeman Javert for breaking his parole\, he must leave his past behind and keep his vow to raise the young orphaned Cosette. But with revolution in the air and Javert closing in\, Jean Valjean has no choice but to fight for his life and sacrifice everything to protect the people he loves.</span><br />\n<br />\n<p style="color: rgb(82\, 82\, 82)\; line-height: 19.79px\; font-family: &quot\;Lucida Sans Unicode&quot\;\, &quot\;Lucida Grande&quot\;\, Tahoma\, sans-serif\; font-size: 13px\; margin-top: 0em\; margin-bottom: 1em\;">\n	Tickets for the Four Seasons Theatre production of&nbsp\;<em>Les Miserables&nbsp\;</em>are on sale now&nbsp\;<a href="https://app.ticketturtle.com/index.php?show=33821" style="color: rgb(64\, 64\, 144)\; font-weight: bold\; text-decoration: none\;">online</a>through the Mitby Theater Box Office. Ticket prices ($35\, $30\, $25) are dependent on seating location.&nbsp\; Ticket fees are only $1/ticket.&nbsp\;&nbsp\;<strong><em>We recommend purchasing online and printing your tickets at home so you can avoid lines at Will Call on the day of the performance.</em></strong></p>\n<p style="color: rgb(82\, 82\, 82)\; line-height: 19.79px\; font-family: &quot\;Lucida Sans Unicode&quot\;\, &quot\;Lucida Grande&quot\;\, Tahoma\, sans-serif\; font-size: 13px\; margin-top: 0em\; margin-bottom: 1em\;">\n	<em>No children under age 6 will be permitted.</em></p>\n<p style="color: rgb(82\, 82\, 82)\; line-height: 19.79px\; font-family: &quot\;Lucida Sans Unicode&quot\;\, &quot\;Lucida Grande&quot\;\, Tahoma\, sans-serif\; font-size: 13px\; margin-top: 0em\; margin-bottom: 1em\;">\n	Running time is approximately 2 hours and 45 minutes<em>.</em></p>\n<br />\n
LOCATION:Mitby Theater Madison College\, Truax Campus 1701 Wright Street Madison\, WI 53704
UID:e.1220.3205
SEQUENCE:3
DTSTAMP:20260420T062929Z
URL:http://greatermadisonchamber.chambermaster.com/events/details/les-miserables-08-09-2013-3205
END:VEVENT

END:VCALENDAR
