BEGIN:VCALENDAR
VERSION:2.0
PRODID:-//ChamberMaster//Event Calendar 2.0//EN
METHOD:PUBLISH
X-PUBLISHED-TTL:P3D
REFRESH-INTERVAL:P3D
CALSCALE:GREGORIAN
BEGIN:VEVENT
DTSTART:20130606T230000Z
DTEND:20130712T020000Z
X-MICROSOFT-CDO-ALLDAYEVENT:FALSE
SUMMARY:Mac Computer Intro
DESCRIPTION:"Mac Computer Intro" provides an overview of the computer for true beginners with an emphasis on the Mac OS.Students will become familiar with Mac basics and application basics\, using Mail and Safari as well as an introduction to iLife.
X-ALT-DESC;FMTTYPE=text/html:<p>\n	&quot\;Mac Computer Intro&quot\; provides an overview of the computer for true beginners with an emphasis on the Mac OS.Students will become familiar with Mac basics and application basics\, using Mail and Safari as well as an introduction to iLife.</p>\n
LOCATION:211 N. Carrol St.\, Madison\, WI. 53703
UID:e.1220.2944
SEQUENCE:3
DTSTAMP:20260419T215154Z
URL:http://greatermadisonchamber.chambermaster.com/events/details/mac-computer-intro-06-06-2013-2944
END:VEVENT

END:VCALENDAR
