BEGIN:VCALENDAR
VERSION:2.0
PRODID:-//ChamberMaster//Event Calendar 2.0//EN
METHOD:PUBLISH
X-PUBLISHED-TTL:P3D
REFRESH-INTERVAL:P3D
CALSCALE:GREGORIAN
BEGIN:VEVENT
DTSTART:20130915T210000Z
DTEND:20130915T230000Z
X-MICROSOFT-CDO-ALLDAYEVENT:FALSE
SUMMARY:Madison Soup
DESCRIPTION:Looking to get connected in your community? DreamBank is honored to host this month's Madison Soup gathering\, a lively micro-granting event inspired by the The Sunday Soup Network. Madison Soup offers a way for local citizens to come together and share a meal   while also working to pool ideas and resources to impact the Madison community in a positive way. Learn more at http://www.madisonsoup.com  and buy tickets at  madison-soup.eventbrite.com
X-ALT-DESC;FMTTYPE=text/html:<span style="color: black\; line-height: 115%\; font-family: &quot\;Calibri&quot\;\, &quot\;sans-serif&quot\;\; font-size: 11pt\; mso-fareast-font-family: Calibri\; mso-ansi-language: EN-US\; mso-fareast-language: EN-US\; mso-bidi-language: AR-SA\; mso-fareast-theme-font: minor-latin\; mso-ascii-theme-font: minor-latin\; mso-hansi-theme-font: minor-latin\; mso-bidi-font-family: &quot\;Times New Roman&quot\;\; mso-bidi-theme-font: minor-bidi\; mso-themecolor: text1\;"><font face="Calibri">Looking to get connected in your community? DreamBank is honored to host this month&rsquo\;s Madison Soup gathering\, a lively micro-granting event inspired by the&nbsp\;</font></span><span style="line-height: 115%\; font-family: &quot\;Calibri&quot\;\, &quot\;sans-serif&quot\;\; font-size: 11pt\; mso-fareast-font-family: Calibri\; mso-ansi-language: EN-US\; mso-fareast-language: EN-US\; mso-bidi-language: AR-SA\; mso-fareast-theme-font: minor-latin\; mso-ascii-theme-font: minor-latin\; mso-hansi-theme-font: minor-latin\; mso-bidi-font-family: &quot\;Times New Roman&quot\;\; mso-bidi-theme-font: minor-bidi\;"><a href="http://sundaysoup.org/" target="_blank"><span style="color: black\; mso-themecolor: text1\;"><font face="Calibri">The Sunday Soup Network</font></span></a><span style="color: black\; mso-themecolor: text1\;"><font face="Calibri">. Madison Soup offers a way for local citizens to come together and </font><strong><span style="font-family: &quot\;Calibri&quot\;\, &quot\;sans-serif&quot\;\; mso-ascii-theme-font: minor-latin\; mso-hansi-theme-font: minor-latin\; mso-bidi-font-family: &quot\;Times New Roman&quot\;\; mso-bidi-theme-font: minor-bidi\;">share a meal &ndash\; while also working to pool ideas and resources</span></strong><font face="Calibri"> to impact the</font><strong><span style="font-family: &quot\;Calibri&quot\;\, &quot\;sans-serif&quot\;\; mso-ascii-theme-font: minor-latin\; mso-hansi-theme-font: minor-latin\; mso-bidi-font-family: &quot\;Times New Roman&quot\;\; mso-bidi-theme-font: minor-bidi\;"> Madison community in a positive way</span></strong><font face="Calibri">. Learn more at </font></span><a href="http://www.madisonsoup.com"><span style="color: black\; mso-themecolor: text1\;"><font face="Calibri">http://www.madisonsoup.com</font></span></a><span style="color: black\; mso-themecolor: text1\;"><font face="Calibri"> <span style="mso-spacerun: yes\;">&nbsp\;</span>and buy tickets at<span style="mso-spacerun: yes\;">&nbsp\; </span></font></span><a href="http://madison-soup.eventbrite.com"><span style="color: black\; mso-themecolor: text1\;"><font face="Calibri">madison-soup.eventbrite.com</font></span></a><span style="color: black\; mso-themecolor: text1\;"><font face="Calibri"> </font></span></span>
LOCATION:DreamBank. 1 N Pinckney St. Madison
UID:e.1220.3155
SEQUENCE:3
DTSTAMP:20260421T055314Z
URL:http://greatermadisonchamber.chambermaster.com/events/details/madison-soup-09-15-2013-3155
END:VEVENT

END:VCALENDAR
