BEGIN:VCALENDAR
VERSION:2.0
PRODID:-//ChamberMaster//Event Calendar 2.0//EN
METHOD:PUBLISH
X-PUBLISHED-TTL:P3D
REFRESH-INTERVAL:P3D
CALSCALE:GREGORIAN
BEGIN:VEVENT
DTSTART;VALUE=DATE:20130105
DTEND;VALUE=DATE:20130106
TRANSP:TRANSPARENT
X-MICROSOFT-CDO-ALLDAYEVENT:TRUE
SUMMARY:Madtown Throwdown 29
DESCRIPTION:Some of your favorite fighters will compete at Madtown Throwdown 29\,  including Tyler Hellenbrand\, Josh Sterry\, Dennis Anderson\, Morgan Sickenger\, Matt Wikoff and more!*  Doors will open at 6pm and fights will start at 7pm.  Advance Pricing is: Platinum Table Seats $80\, Gold Elevated Reserved $50\, Silver Reserved Seats $40 and General Admission (standing room only) is $25. An additional $5 will be added for the day of the show.  Visit www.alliantenergycenter.com for more information.\n*Fight card subject to change.
X-ALT-DESC;FMTTYPE=text/html:<p class="MsoNormal" style="margin: 0in -0.5in 0pt 0in">\n	<span style="font-size: 11pt\; mso-bidi-font-size: 12.0pt"><font color="#000000"><font face="Times New Roman">Some of your favorite fighters will compete at Madtown Throwdown 29\,<span style="mso-spacerun: yes">&nbsp\; </span>including Tyler Hellenbrand\, Josh Sterry\, Dennis Anderson\, Morgan Sickenger\, Matt Wikoff and more!*<span style="mso-spacerun: yes">&nbsp\; </span>Doors will open at 6pm and fights will start at 7pm.<span style="mso-spacerun: yes">&nbsp\; </span>Advance Pricing is: Platinum Table Seats $80\, Gold Elevated Reserved $50\, Silver Reserved Seats $40 and General Admission (standing room only) is $25. An additional $5 will be added for the day of the show.&nbsp\; Visit <a href="http://www.alliantenergycenter.com">www.alliantenergycenter.com</a> for more information.<o:p></o:p></font></font></span></p>\n<span style="font-family: 'times new roman'\; font-size: 11pt\; mso-bidi-font-size: 12.0pt\; mso-fareast-font-family: 'times new roman'\; mso-ansi-language: en-us\; mso-fareast-language: en-us\; mso-bidi-language: ar-sa"><font color="#000000">*Fight card subject to change.<span style="mso-spacerun: yes">&nbsp\; </span></font></span>
LOCATION:Exhibition Hall at the Alliant Energy Center
UID:e.1220.2527
SEQUENCE:3
DTSTAMP:20260424T133523Z
URL:http://greatermadisonchamber.chambermaster.com/events/details/madtown-throwdown-29-01-05-2013-2527
END:VEVENT

END:VCALENDAR
