BEGIN:VCALENDAR
VERSION:2.0
PRODID:-//ChamberMaster//Event Calendar 2.0//EN
METHOD:PUBLISH
X-PUBLISHED-TTL:P3D
REFRESH-INTERVAL:P3D
CALSCALE:GREGORIAN
BEGIN:VEVENT
DTSTART:20130621T160000Z
DTEND:20130621T190000Z
X-MICROSOFT-CDO-ALLDAYEVENT:FALSE
SUMMARY:Make Music Madison
DESCRIPTION:You're Invited to Madison Media Institute for a Make Music Madison\n\n	Celebration!\n\n	\n\n	Music Performances: \n\n	11-12: Mark Adkins\n\n	12-1: Sweet Delta Dawn\n\n	1-2: Introspective Prodigies\n\n	\n\n	Food Carts: Slide Food Cart and Catering\, BJs Kolaches\, and Silly Sweets! \n\n	\n\n	Let's Make Music Madison!
X-ALT-DESC;FMTTYPE=text/html:<h5 class="uiStreamMessage userContentWrapper" data-ft="{&quot\;type&quot\;:1\,&quot\;tn&quot\;:&quot\;K&quot\;}" style="margin: 0px 0px 5px\; padding: 0px\; color: rgb(0\, 0\, 0)\; line-height: 14px\; font-family: &quot\;lucida grande&quot\;\, tahoma\, verdana\, arial\, sans-serif\; font-size: 11px\; font-weight: normal\; word-wrap: break-word\;">\n	<span class="messageBody" data-ft="{&quot\;type&quot\;:3}" style="color: rgb(51\, 51\, 51)\; line-height: 1.38\; font-size: 13px\;">You&#39\;re Invited to Madison Media Institute for a&nbsp\;<a data-hovercard="/ajax/hovercard/page.php?id=143191585840864&amp\;extragetparams=%7B%22directed_target_id%22%3A0%7D" href="http://www.facebook.com/makemusicmadison?directed_target_id=0" style="color: rgb(59\, 89\, 152)\; text-decoration: none\; cursor: pointer\;">Make Music Madison</a><br />\n	Celebration!<br />\n	<br />\n	Music Performances:&nbsp\;<br />\n	11-12: Mark Adkins<br />\n	<span class="text_exposed_show" style="display: inline\;">12-1:&nbsp\;<a data-hovercard="/ajax/hovercard/page.php?id=346272952157767&amp\;extragetparams=%7B%22directed_target_id%22%3A0%7D" href="http://www.facebook.com/pages/Sweet-Delta-Dawn/346272952157767?directed_target_id=0" style="color: rgb(59\, 89\, 152)\; text-decoration: none\; cursor: pointer\;">Sweet Delta Dawn</a><br />\n	1-2:&nbsp\;<a data-hovercard="/ajax/hovercard/page.php?id=296529377087429&amp\;extragetparams=%7B%22directed_target_id%22%3A0%7D" href="http://www.facebook.com/IProdigies?directed_target_id=0" style="color: rgb(59\, 89\, 152)\; text-decoration: none\; cursor: pointer\;">Introspective Prodigies</a><br />\n	<br />\n	Food Carts:&nbsp\;<a data-hovercard="/ajax/hovercard/page.php?id=169722509752902&amp\;extragetparams=%7B%22directed_target_id%22%3A0%7D" href="http://www.facebook.com/slidefoodcart?directed_target_id=0" style="color: rgb(59\, 89\, 152)\; text-decoration: none\; cursor: pointer\;">Slide Food Cart and Catering</a>\,&nbsp\;<a data-hovercard="/ajax/hovercard/page.php?id=151768991547665&amp\;extragetparams=%7B%22directed_target_id%22%3A0%7D" href="http://www.facebook.com/bjskolaches?directed_target_id=0" style="color: rgb(59\, 89\, 152)\; text-decoration: none\; cursor: pointer\;">BJs Kolaches</a>\, and Silly Sweets!&nbsp\;<br />\n	<br />\n	Let&#39\;s Make Music Madison!</span></span></h5>\n<div>\n	&nbsp\;</div>\n<div class="mvm uiStreamAttachments fbMainStreamAttachment" data-ft="{&quot\;type&quot\;:10\,&quot\;tn&quot\;:&quot\;H&quot\;}" style="color: rgb(51\, 51\, 51)\; line-height: 14px\; font-family: &quot\;lucida grande&quot\;\, tahoma\, verdana\, arial\, sans-serif\; font-size: 11px\; margin-top: 10px\; margin-bottom: 10px\;">\n	<div class="clearfix photoRedesign" style="width: 398px\; zoom: 1\;">\n		&nbsp\;</div>\n</div>\n<br />\n
LOCATION:2702 Agriculture Drive
UID:e.1220.3030
SEQUENCE:3
DTSTAMP:20260422T200959Z
URL:http://greatermadisonchamber.chambermaster.com/events/details/make-music-madison-06-21-2013-3030
END:VEVENT

END:VCALENDAR
