BEGIN:VCALENDAR
VERSION:2.0
PRODID:-//ChamberMaster//Event Calendar 2.0//EN
METHOD:PUBLISH
X-PUBLISHED-TTL:P3D
REFRESH-INTERVAL:P3D
CALSCALE:GREGORIAN
BEGIN:VEVENT
DTSTART:20130221T140000Z
DTEND:20130221T183000Z
X-MICROSOFT-CDO-ALLDAYEVENT:FALSE
SUMMARY:Microsoft SharePoint workshop with Walter Jankowski
DESCRIPTION:Is your organization using SharePoint to its fullest?  Sure\, you store files in it\, but did you know that there are a ton of cool things that you can do to build your department webpage/desktop\, communicate with your team\, manage processes\, document procedures\, automatically assign tasks\, track the status of work requests or projects\, create metrics\, and more?  Walter Jankowski walks you through some examples of how to better utilize this powerful productivity tool.
X-ALT-DESC;FMTTYPE=text/html:Is your organization using SharePoint to its fullest?&nbsp\; Sure\, you store files in it\, but did you know that there are a ton of cool things that you can do to build your department webpage/desktop\, communicate with your team\, manage processes\, document procedures\, automatically assign tasks\, track the status of work requests or projects\, create metrics\, and more?&nbsp\; Walter Jankowski walks you through some examples of how to better utilize this powerful productivity tool.
LOCATION:MetaStar Building 2909 Landmark Place. Madison\, WI\, 53713
UID:e.1220.2632
SEQUENCE:3
DTSTAMP:20260423T121005Z
URL:http://greatermadisonchamber.chambermaster.com/events/details/microsoft-sharepoint-workshop-with-walter-jankowski-02-21-2013-2632
END:VEVENT

END:VCALENDAR
