BEGIN:VCALENDAR
VERSION:2.0
PRODID:-//ChamberMaster//Event Calendar 2.0//EN
METHOD:PUBLISH
X-PUBLISHED-TTL:P3D
REFRESH-INTERVAL:P3D
CALSCALE:GREGORIAN
BEGIN:VEVENT
DTSTART:20130718T230000Z
DTEND:20130816T020000Z
X-MICROSOFT-CDO-ALLDAYEVENT:FALSE
SUMMARY:MS Excel 2010 Intermediate
DESCRIPTION:Covers tools for working with large worksheets\, multiple sheets\, linking cells and formulas\, naming cells and ranges\, hyperlinks\, working with tables\, sorting and filtering\, outlines\, graphics\, templates\, and protecting worksheets.
X-ALT-DESC;FMTTYPE=text/html:<p>\n	Covers tools for working with large worksheets\, multiple sheets\, linking cells and formulas\, naming cells and ranges\, hyperlinks\, working with tables\, sorting and filtering\, outlines\, graphics\, templates\, and protecting worksheets.</p>\n
LOCATION:211 North Carrol Street\, Madison\, WI. 53703
UID:e.1220.2918
SEQUENCE:3
DTSTAMP:20260419T132736Z
URL:http://greatermadisonchamber.chambermaster.com/events/details/ms-excel-2010-intermediate-07-18-2013-2918
END:VEVENT

END:VCALENDAR
