BEGIN:VCALENDAR
VERSION:2.0
PRODID:-//ChamberMaster//Event Calendar 2.0//EN
METHOD:PUBLISH
X-PUBLISHED-TTL:P3D
REFRESH-INTERVAL:P3D
CALSCALE:GREGORIAN
BEGIN:VEVENT
DTSTART:20130129T000000Z
DTEND:20130226T030000Z
X-MICROSOFT-CDO-ALLDAYEVENT:FALSE
SUMMARY:MS Excel 2010 Intro
DESCRIPTION:Covers working with tables and ribbons\, entering\, editing\, and formatting numbers\, text\, dates and formulas for calculations\, working with themes\, formatting worksheets\, and creating and modifying charts.
X-ALT-DESC;FMTTYPE=text/html:Covers working with tables and ribbons\, entering\, editing\, and formatting numbers\, text\, dates and formulas for calculations\, working with themes\, formatting worksheets\, and creating and modifying charts.
LOCATION:211 N. Carroll St. Madison\, WI 53703
UID:e.1220.2597
SEQUENCE:3
DTSTAMP:20260424T021959Z
URL:http://greatermadisonchamber.chambermaster.com/events/details/ms-excel-2010-intro-01-28-2013-2597
END:VEVENT

END:VCALENDAR
