BEGIN:VCALENDAR
VERSION:2.0
PRODID:-//ChamberMaster//Event Calendar 2.0//EN
METHOD:PUBLISH
X-PUBLISHED-TTL:P3D
REFRESH-INTERVAL:P3D
CALSCALE:GREGORIAN
BEGIN:VEVENT
DTSTART:20130418T230000Z
DTEND:20130517T020000Z
X-MICROSOFT-CDO-ALLDAYEVENT:FALSE
SUMMARY:MS Excel 2010 Intro
DESCRIPTION:Covers working with tables and ribbons\, entering\, editing\, and formatting numbers\, text\, dates and formulas for calculations\, working with themes\, formatting worksheets\, and creating and modifying charts.
X-ALT-DESC;FMTTYPE=text/html:<p>\n	Covers working with tables and ribbons\, entering\, editing\, and formatting numbers\, text\, dates and formulas for calculations\, working with themes\, formatting worksheets\, and creating and modifying charts.</p>\n
LOCATION:302 S. Gammon Rd.\, Madison\, WI 53713
UID:e.1220.2725
SEQUENCE:3
DTSTAMP:20260424T022000Z
URL:http://greatermadisonchamber.chambermaster.com/events/details/ms-excel-2010-intro-04-18-2013-2725
END:VEVENT

END:VCALENDAR
