BEGIN:VCALENDAR
VERSION:2.0
PRODID:-//ChamberMaster//Event Calendar 2.0//EN
METHOD:PUBLISH
X-PUBLISHED-TTL:P3D
REFRESH-INTERVAL:P3D
CALSCALE:GREGORIAN
BEGIN:VEVENT
DTSTART:20121206T000000Z
DTEND:20121206T030000Z
X-MICROSOFT-CDO-ALLDAYEVENT:FALSE
SUMMARY:MS Excel: Sorting & Filtering
DESCRIPTION:"MS Excel: Sorting & Filtering" will cover the use of sorting criteria such as wildcards and sort order to organize data as well as filtering to allow you to hide data without rearranging or moving it.
X-ALT-DESC;FMTTYPE=text/html:&quot\;MS Excel: Sorting &amp\; Filtering&quot\; will cover the use of sorting criteria such as wildcards and sort order to organize data as well as filtering to allow you to hide data without rearranging or moving it.
LOCATION:302 S. Gammon Rd. Madison College West Campus.
UID:e.1220.2464
SEQUENCE:3
DTSTAMP:20260424T183612Z
URL:http://greatermadisonchamber.chambermaster.com/events/details/ms-excel-sorting-filtering-12-05-2012-2464
END:VEVENT

END:VCALENDAR
