BEGIN:VCALENDAR
VERSION:2.0
PRODID:-//ChamberMaster//Event Calendar 2.0//EN
METHOD:PUBLISH
X-PUBLISHED-TTL:P3D
REFRESH-INTERVAL:P3D
CALSCALE:GREGORIAN
BEGIN:VEVENT
DTSTART:20130411T230000Z
DTEND:20130510T020000Z
X-MICROSOFT-CDO-ALLDAYEVENT:FALSE
SUMMARY:MS Excel VBA Programming
DESCRIPTION:MS Excel VBA Prog\," students will learn how to use macros to automate routine tasks and create custom functions in MS Excel\, beginning from simple examples and working up to Visual Basic programming using dialog boxes and control structures.
X-ALT-DESC;FMTTYPE=text/html:<p>\n	MS Excel VBA Prog\,&quot\; students will learn how to use macros to automate routine tasks and create custom functions in MS Excel\, beginning from simple examples and working up to Visual Basic programming using dialog boxes and control structures.</p>\n
LOCATION:302 S. Gammon Rd.\, Madison\, WI 53713
UID:e.1220.2726
SEQUENCE:3
DTSTAMP:20260423T005515Z
URL:http://greatermadisonchamber.chambermaster.com/events/details/ms-excel-vba-programming-04-11-2013-2726
END:VEVENT

END:VCALENDAR
