BEGIN:VCALENDAR
VERSION:2.0
PRODID:-//ChamberMaster//Event Calendar 2.0//EN
METHOD:PUBLISH
X-PUBLISHED-TTL:P3D
REFRESH-INTERVAL:P3D
CALSCALE:GREGORIAN
BEGIN:VEVENT
DTSTART:20130718T230000Z
DTEND:20130816T020000Z
X-MICROSOFT-CDO-ALLDAYEVENT:FALSE
SUMMARY:MS Excel VBA Programming
DESCRIPTION:MS Excel VBA Prog\," students will learn how to use macros to automate routine tasks and create custom functions in MS Excel\, beginning from simple examples and working up to Visual Basic programming using dialog boxes and control structures
X-ALT-DESC;FMTTYPE=text/html:MS Excel VBA Prog\,&quot\; students will learn how to use macros to automate routine tasks and create custom functions in MS Excel\, beginning from simple examples and working up to Visual Basic programming using dialog boxes and control structures
LOCATION:1701 Wright St. Madison\, WI 53704
UID:e.1220.3119
SEQUENCE:3
DTSTAMP:20260419T135117Z
URL:http://greatermadisonchamber.chambermaster.com/events/details/ms-excel-vba-programming-07-18-2013-3119
END:VEVENT

END:VCALENDAR
