BEGIN:VCALENDAR
VERSION:2.0
PRODID:-//ChamberMaster//Event Calendar 2.0//EN
METHOD:PUBLISH
X-PUBLISHED-TTL:P3D
REFRESH-INTERVAL:P3D
CALSCALE:GREGORIAN
BEGIN:VEVENT
DTSTART:20130212T143000Z
DTEND:20130212T213000Z
X-MICROSOFT-CDO-ALLDAYEVENT:FALSE
SUMMARY:Nursingmatters Expo
DESCRIPTION:Nursingmatters Expo 2013 is sponsored by the Nursingmatters Online publication and will have seminars and exhibitors for anyone in the nursing/medical field.  Speakers\, breakout sessions\, over 60 vendors\, complimentary lunch and massages\, free parking\, & free admission are featured at this expo. Hours are 8:30am   3:30pm.  Visit www.alliantenergycenter.com for more information.
X-ALT-DESC;FMTTYPE=text/html:<p class="MsoNormal" style="margin: 0in -0.5in 0pt 0.4in">\n	<font face="Times New Roman"><strong><span style="font-weight: normal\; font-size: 11pt\; mso-bidi-font-size: 10.0pt"><font color="#000000">Nursingmatters Expo 2013 is sponsored by the Nursingmatters Online publication and will have seminars and exhibitors for anyone in the nursing/medical field.<span style="mso-spacerun: yes">&nbsp\; </span></font></span></strong><span lang="EN" style="font-size: 11pt\; color: black\; mso-bidi-font-size: 12.0pt\; mso-ansi-language: en">Speakers\, breakout sessions\, over 60 vendors\, complimentary lunch and massages\, free parking\, &amp\; free admission are featured at this expo.&nbsp\;Hours are 8:30am &ndash\; 3:30pm.<span style="mso-spacerun: yes">&nbsp\; Visit <a href="http://www.alliantenergycenter.com">www.alliantenergycenter.com</a> for more information.</span></span></font></p>\n
LOCATION:Exhibition Hall at the Alliant Energy Center
UID:e.1220.2456
SEQUENCE:3
DTSTAMP:20260423T053154Z
URL:http://greatermadisonchamber.chambermaster.com/events/details/nursingmatters-expo-02-12-2013-2456
END:VEVENT

END:VCALENDAR
