BEGIN:VCALENDAR
VERSION:2.0
PRODID:-//ChamberMaster//Event Calendar 2.0//EN
METHOD:PUBLISH
X-PUBLISHED-TTL:P3D
REFRESH-INTERVAL:P3D
CALSCALE:GREGORIAN
BEGIN:VEVENT
DTSTART:20130516T153000Z
DTEND:20130516T170000Z
X-MICROSOFT-CDO-ALLDAYEVENT:FALSE
SUMMARY:Office 365 Webinar
DESCRIPTION:Cloud Computing and Collaboration: Improving productivity\, providing IT peace of mind\, and reducing total cost of ownership. Get the latest versions of Office\, plus business-class email\, a public website\, web conferencing and document sharing   all easy to manage without IT expertise.
X-ALT-DESC;FMTTYPE=text/html:<p class="MsoNormal" style="margin: 0in 0in 0pt\;">\n	<span style="color: black\;"><font size="3"><font face="Calibri">Cloud Computing and Collaboration: Improving productivity\, providing IT peace of mind\, and reducing total cost of ownership. Get the latest versions of Office\, plus business-class email\, a public website\, web conferencing and document sharing &ndash\; all easy to manage without IT expertise.<o:p></o:p></font></font></span></p>\n<font size="3"><font color="#000000"><font face="Times New Roman"><u1:p></u1:p></font></font></font>
LOCATION:Webinar (Online Meeting)
UID:e.1220.2834
SEQUENCE:3
DTSTAMP:20260421T163539Z
URL:http://greatermadisonchamber.chambermaster.com/events/details/office-365-webinar-05-16-2013-2834
END:VEVENT

END:VCALENDAR
