BEGIN:VCALENDAR
VERSION:2.0
PRODID:-//ChamberMaster//Event Calendar 2.0//EN
METHOD:PUBLISH
X-PUBLISHED-TTL:P3D
REFRESH-INTERVAL:P3D
CALSCALE:GREGORIAN
BEGIN:VEVENT
DTSTART:20131015T153000Z
DTEND:20131015T170000Z
X-MICROSOFT-CDO-ALLDAYEVENT:FALSE
SUMMARY:Office 365 Webinar
DESCRIPTION:Cloud Computing and Collaboration: Improving productivity\, providing IT peace of mind\, and reducing total cost of ownership. Get the latest versions of Office\, plus business-class email\, a public website\, web conferencing and document sharing   all easy to manage without IT expertise.
X-ALT-DESC;FMTTYPE=text/html:<span style="color: rgb(0\, 0\, 0)\; font-family: 'Helvetica Nue'\, Arial\, Helvetica\, sans-serif\; line-height: 19.5px\;">Cloud Computing and Collaboration: Improving productivity\, providing IT peace of mind\, and reducing total cost of ownership. Get the latest versions of Office\, plus business-class email\, a public website\, web conferencing and document sharing &ndash\; all easy to manage without IT expertise.</span>
LOCATION:Webinar (Online Meeting)
UID:e.1220.3217
SEQUENCE:3
DTSTAMP:20260419T125227Z
URL:http://greatermadisonchamber.chambermaster.com/events/details/office-365-webinar-10-15-2013-3217
END:VEVENT

END:VCALENDAR
