BEGIN:VCALENDAR
VERSION:2.0
PRODID:-//ChamberMaster//Event Calendar 2.0//EN
METHOD:PUBLISH
X-PUBLISHED-TTL:P3D
REFRESH-INTERVAL:P3D
CALSCALE:GREGORIAN
BEGIN:VEVENT
DTSTART;VALUE=DATE:20130914
DTEND;VALUE=DATE:20130915
TRANSP:TRANSPARENT
X-MICROSOFT-CDO-ALLDAYEVENT:TRUE
SUMMARY:One Tough Cookie
DESCRIPTION:What do you get when you combine mud\, obstacles\, trail runs and hundreds of women? One Tough Cookie! That's the 5K adventure challenge created exclusively for women on Saturday\, September 14 at Oakwood Knoll Girl Scout Camp in East Troy.\nOne Tough Cookie is non-competitive and aimed at helping women build courage\, confidence and character while having fun with friends.  Do you have to be a Girl Scout to be a One Tough Cookie? No! All women ages 14 and up are invited and encouraged to participate. \n\n	One Tough Cookies can sign up in 'troops' (groups of friends) or individually. Race intervals start at 9 am and run all day. The finish line will offer live music\, food\, beverages and plenty of fun. All participants get a One Tough Cookie dry-wick t-shirt\, One Tough Cookie finish-line dog tags\, a free beverage and guaranteed muddy great time.\n\n	One Tough Cookie is the only mud run that is 100% local and 100% charitable! All proceeds from One Tough Cookie benefit Girl Scouts of Wisconsin   Badgerland Council. Badgerland Council serves 12\,000 girls and 4000 adults in south-central and southwestern Wisconsin.
X-ALT-DESC;FMTTYPE=text/html:<p style="background: white\; line-height: 115%\;">\n	<span style="line-height: 115%\; font-family: &quot\;Verdana&quot\;\,&quot\;sans-serif&quot\;\; font-size: 10pt\; mso-bidi-font-family: Calibri\; mso-bidi-theme-font: minor-latin\;"><font color="#000000">What do you get when you combine mud\, obstacles\, trail runs and hundreds of women? One Tough Cookie! That&rsquo\;s the 5K adventure challenge created exclusively for women on Saturday\, September 14 at Oakwood Knoll Girl Scout Camp in East Troy.<o:p></o:p></font></span></p>\n<span style="line-height: 115%\; font-family: &quot\;Verdana&quot\;\,&quot\;sans-serif&quot\;\; font-size: 10pt\; mso-bidi-font-family: Calibri\; mso-bidi-theme-font: minor-latin\;"><font color="#000000">One Tough Cookie is non-competitive and aimed at helping women build courage\, confidence and character while having fun with friends. <span style="mso-spacerun: yes\;">&nbsp\;</span>Do you have to be a Girl Scout to be a One Tough Cookie? No! All women ages 14 and up are invited and encouraged to participate.<o:p></o:p></font></span><font color="#000000" face="Times New Roman" size="3"> </font>\n<p style="background: white\; line-height: 115%\;">\n	<font color="#000000"><span style="line-height: 115%\; font-family: &quot\;Verdana&quot\;\,&quot\;sans-serif&quot\;\; font-size: 10pt\; mso-bidi-font-family: Calibri\; mso-bidi-theme-font: minor-latin\;">One Tough Cookies can sign up in &lsquo\;troops&rsquo\; (groups of friends) or individually. </span><span style="line-height: 115%\; font-family: &quot\;Verdana&quot\;\,&quot\;sans-serif&quot\;\; font-size: 10pt\; mso-bidi-font-family: Arial\;">Race intervals start at 9 am and run all day. The finish line will offer live music\, <span class="scayt-misspell">food\, beverages</span> and plenty of fun. All participants get a One Tough Cookie dry-wick t-shirt\, One Tough Cookie finish-line dog tags\, a free beverage and guaranteed muddy great time.<o:p></o:p></span></font></p>\n<p style="background: white\; line-height: 115%\;">\n	<span style="line-height: 115%\; font-family: &quot\;Verdana&quot\;\,&quot\;sans-serif&quot\;\; font-size: 10pt\; mso-bidi-font-family: Arial\;"><font color="#000000">One Tough Cookie is the only mud run that is 100% local and 100% charitable! All proceeds from One Tough Cookie benefit Girl Scouts of Wisconsin &ndash\; Badgerland Council. Badgerland Council serves 12\,000 girls and 4000 adults in south-central and southwestern Wisconsin. <o:p></o:p></font></span></p>\n
LOCATION:Girl Scout Camp Oakwood Knoll W3524 Wisconsin 20\, East Troy\, WI 53120
UID:e.1220.3165
SEQUENCE:3
DTSTAMP:20260422T200958Z
URL:http://greatermadisonchamber.chambermaster.com/events/details/one-tough-cookie-09-14-2013-3165
END:VEVENT

END:VCALENDAR
