BEGIN:VCALENDAR
VERSION:2.0
PRODID:-//ChamberMaster//Event Calendar 2.0//EN
METHOD:PUBLISH
X-PUBLISHED-TTL:P3D
REFRESH-INTERVAL:P3D
CALSCALE:GREGORIAN
BEGIN:VEVENT
DTSTART;VALUE=DATE:20130721
DTEND;VALUE=DATE:20130722
TRANSP:TRANSPARENT
X-MICROSOFT-CDO-ALLDAYEVENT:TRUE
SUMMARY:Paddle for Polar Bears
DESCRIPTION:The fast-growing sport of stand up paddleboarding (SUP) is making waves (and raising funds!) on the waters of Lake Wingra in Madison\, Wisconsin with a series of three introductory lesson sessions on Saturday\, June 23\; Sunday\, July 21\; and August 3\, 2013. \n\n	 \n\n	This is the fourth year for the Paddleboard Specialists "Paddle for the Polar Bears" event\, which raises funds for the Henry Vilas Zoo's state-of-the-art Arctic Passage exhibit\, a home for polar bears and seals. Hosted by Paddleboard Specialists and Wingra Boats\, "Paddle for the Polar Bears" is all about having a good time while engaging in a fast-growing\, simple-to-learn water sport. \n\n	 \n\n	"Give me 10 minutes and I'll have you paddleboarding. It's easy\, fun\, and it's a great workout\," says Gary Stone\, event organizer and owner of local outfitter Paddleboard Specialists. "The gear required is minimal: a board\, paddle\, leash and personal flotation device...and you're off!"\n\n	 \n\n	Anna Reynolds\, executive director of the Henry Vilas Zoological Society\, says\, "We're thrilled that Paddleboard Specialists and Wingra Boats are hosting this fun\, popular fundraiser for the fourth year in a row. Madison residents love the Zoo and love being active\, so learning how to paddleboard while helping to build the Arctic Passage is a win-win for everyone who participates."\n\n	 \n\n	Paddleboard Specialists donates fifty percent of each $30 lesson to the Henry Vilas Zoo\, while co-host Wingra Boats offers participants a special incentive to continue the fun by donating $2 from any boat rental during Paddle for the Polar Bears. Wingra Boats is located adjacent to the event site.\n\n	 \n\n	Pre-registration is highly recommended as lessons fill up quickly\; however\, walk-in participants will be accommodated on a space-available basis. For more information or to register\, visit www.paddleboardspecialists.com.
X-ALT-DESC;FMTTYPE=text/html:<p class="MsoNormal" style="mso-pagination: none\; mso-layout-grid-align: none\;">\n	<span style="font-family: &quot\;Century Gothic&quot\;\,&quot\;sans-serif&quot\;\; font-size: 12pt\; mso-font-kerning: 0pt\;">The fast-growing sport of stand up paddleboarding (SUP) is making waves (and raising funds!) on the waters of Lake Wingra in Madison\, Wisconsin with a series of three introductory lesson sessions on Saturday\, June 23\; Sunday\, July 21\; and August 3\, 2013. </span></p>\n<p class="MsoNormal" style="mso-pagination: none\; mso-layout-grid-align: none\;">\n	<span style="font-family: &quot\;Times-Roman&quot\;\,&quot\;serif&quot\;\; mso-bidi-font-family: &quot\;Times New Roman&quot\;\; mso-bidi-font-size: 16.0pt\; mso-hansi-font-family: Times-Roman\;">&nbsp\;</span></p>\n<p class="MsoNormal" style="mso-pagination: none\; mso-layout-grid-align: none\;">\n	<span style="font-family: &quot\;CenturyGothic&quot\;\,&quot\;sans-serif&quot\;\; font-size: 12pt\; mso-bidi-font-family: &quot\;Times New Roman&quot\;\; mso-font-kerning: 0pt\; mso-bidi-font-size: 16.0pt\; mso-hansi-font-family: CenturyGothic\;">This is the fourth year for the <b style="mso-bidi-font-weight: normal\;">Paddleboard Specialists &ldquo\;Paddle for the Polar Bears&rdquo\;</b> event\, which raises funds for the Henry Vilas Zoo&rsquo\;s state-of-the-art Arctic Passage exhibit\, a home for polar bears and seals. Hosted by Paddleboard Specialists and Wingra Boats\, <b style="mso-bidi-font-weight: normal\;">&ldquo\;Paddle for the Polar Bears&rdquo\;</b> is all about having a good time while engaging in a fast-growing\, simple-to-learn water sport. </span></p>\n<p class="MsoNormal" style="mso-pagination: none\; mso-layout-grid-align: none\;">\n	<span style="font-family: &quot\;CenturyGothic&quot\;\,&quot\;sans-serif&quot\;\; font-size: 12pt\; mso-bidi-font-family: &quot\;Times New Roman&quot\;\; mso-font-kerning: 0pt\; mso-bidi-font-size: 16.0pt\; mso-hansi-font-family: CenturyGothic\;">&nbsp\;</span></p>\n<p class="MsoNormal" style="mso-pagination: none\; mso-layout-grid-align: none\;">\n	<span style="font-family: &quot\;CenturyGothic&quot\;\,&quot\;sans-serif&quot\;\; font-size: 12pt\; mso-bidi-font-family: &quot\;Times New Roman&quot\;\; mso-font-kerning: 0pt\; mso-bidi-font-size: 16.0pt\; mso-hansi-font-family: CenturyGothic\;">&ldquo\;Give me 10 minutes and I&rsquo\;ll have you paddleboarding. It&rsquo\;s easy\, fun\, and it&rsquo\;s a great workout\,&rdquo\; says Gary Stone\, event organizer and owner of local outfitter&nbsp\;Paddleboard Specialists. &ldquo\;The gear required is minimal: a board\, paddle\, leash and personal flotation device...and you&rsquo\;re off!&rdquo\;</span></p>\n<p class="MsoNormal" style="mso-pagination: none\; mso-layout-grid-align: none\;">\n	<span style="font-family: &quot\;Century Gothic&quot\;\,&quot\;sans-serif&quot\;\; font-size: 12pt\; mso-bidi-font-size: 13.0pt\;">&nbsp\;</span></p>\n<p class="MsoNormal">\n	<span style="font-family: &quot\;Century Gothic&quot\;\,&quot\;sans-serif&quot\;\; font-size: 12pt\; mso-font-kerning: 0pt\;">Anna&nbsp\;Reynolds\, executive director of the Henry Vilas Zoological Society\, says\, &ldquo\;We&rsquo\;re thrilled that Paddleboard Specialists and Wingra Boats are hosting this fun\, popular fundraiser for the fourth year in a row. Madison residents love the Zoo and love being active\, so learning how to paddleboard while helping to build the Arctic Passage is a win-win for everyone who participates.&rdquo\;</span></p>\n<p class="MsoNormal">\n	<span style="font-family: &quot\;Century Gothic&quot\;\,&quot\;sans-serif&quot\;\; font-size: 12pt\; mso-font-kerning: 0pt\;">&nbsp\;</span></p>\n<p class="MsoNormal">\n	<span style="font-family: &quot\;Century Gothic&quot\;\,&quot\;sans-serif&quot\;\; font-size: 12pt\; mso-font-kerning: 0pt\;">Paddleboard Specialists donates fifty percent of each $30 lesson to the Henry Vilas Zoo\, while co-host Wingra Boats offers </span><span style="font-family: &quot\;Century Gothic&quot\;\,&quot\;sans-serif&quot\;\; font-size: 12pt\;">participants a special incentive to continue the fun by donating $2 from any boat rental during <b style="mso-bidi-font-weight: normal\;">Paddle for the Polar Bears</b>. Wingra Boats is located adjacent to the event site.</span></p>\n<p class="MsoNormal">\n	<span style="font-family: &quot\;Century Gothic&quot\;\,&quot\;sans-serif&quot\;\; font-size: 12pt\;">&nbsp\;</span></p>\n<p class="MsoNormal" style="mso-pagination: none\; mso-layout-grid-align: none\;">\n	<span style="font-family: &quot\;Century Gothic&quot\;\,&quot\;sans-serif&quot\;\; font-size: 12pt\;">Pre-registration is highly recommended as lessons fill up quickly\; however\, walk-in participants will be accommodated on a space-available basis. For more information or to register\, visit </span><a href="http://www.paddleboardspecialists.com"><span style="font-family: &quot\;Century Gothic&quot\;\,&quot\;sans-serif&quot\;\; font-size: 12pt\;">www.paddleboardspecialists.com</span></a><span style="font-family: &quot\;Century Gothic&quot\;\,&quot\;sans-serif&quot\;\; font-size: 12pt\;">.</span></p>\n
LOCATION:Wingra Park\, near Wingra Boats
UID:e.1220.2794
SEQUENCE:3
DTSTAMP:20260421T111350Z
URL:http://greatermadisonchamber.chambermaster.com/events/details/paddle-for-polar-bears-07-21-2013-2794
END:VEVENT

END:VCALENDAR
