BEGIN:VCALENDAR
VERSION:2.0
PRODID:-//ChamberMaster//Event Calendar 2.0//EN
METHOD:PUBLISH
X-PUBLISHED-TTL:P3D
REFRESH-INTERVAL:P3D
CALSCALE:GREGORIAN
BEGIN:VEVENT
DTSTART:20130708T230000Z
DTEND:20130806T020000Z
X-MICROSOFT-CDO-ALLDAYEVENT:FALSE
SUMMARY:PC Computer Intro
DESCRIPTION:Provides an overview of the PC for true beginners. Students become familiar with the keyboard\, mouse\, hardware terminology\, and software programs. Students use desktop icons\, menus and Windows operating systems\, and create and manage files and storage media.
X-ALT-DESC;FMTTYPE=text/html:<p>\n	Provides an overview of the PC for true beginners. Students become familiar with the keyboard\, mouse\, hardware terminology\, and software programs. Students use desktop icons\, menus and Windows operating systems\, and create and manage files and storage media.</p>\n
LOCATION:302 S. Gammon Rd.\, Madison\, WI. 53703
UID:e.1220.2943
SEQUENCE:3
DTSTAMP:20260419T135116Z
URL:http://greatermadisonchamber.chambermaster.com/events/details/pc-computer-intro-07-08-2013-2943
END:VEVENT

END:VCALENDAR
