BEGIN:VCALENDAR
VERSION:2.0
PRODID:-//ChamberMaster//Event Calendar 2.0//EN
METHOD:PUBLISH
X-PUBLISHED-TTL:P3D
REFRESH-INTERVAL:P3D
CALSCALE:GREGORIAN
BEGIN:VEVENT
DTSTART;VALUE=DATE:20120905
DTEND;VALUE=DATE:20120907
TRANSP:TRANSPARENT
X-MICROSOFT-CDO-ALLDAYEVENT:TRUE
SUMMARY:Profit Mastery: Practical Tools for Control\, Survival\, and Success
DESCRIPTION:The Profit Mastery seminar delivers unique and powerful financial and management training tools to business owners\, managers and their advisors to contribute to their overall success.  Key topics covered:  Financial statement analysis/interpretation\, financial forecasting methods & financing your future.\n\n	The Profit Mastery process provides information\, education and motivation to owners\, managers and advisors of independent business throughout the world.   The mission: to create and deliver tools and resources that will guide you to improve business performance in a constantly changing economy and to assist you in overcoming what is consistently the greatest knowledge gap for business owners: finance. \n\n	Contact us & we'll e-mail you a detailed brochure\, which also includes testimonials from past attendees.
X-ALT-DESC;FMTTYPE=text/html:<p class="MsoNormal" style="line-height: 150%\; margin: 0in 0in 10pt\; mso-margin-top-alt: auto\; mso-margin-bottom-alt: auto">\n	<span style="color: #696969"><span style="font-family: arial"><span style="font-size: 12px"><span style="line-height: 150%"><span style="line-height: 150%"><span lang="EN" style="mso-ascii-font-family: calibri\; mso-fareast-font-family: 'times new roman'\; mso-hansi-font-family: calibri\; mso-bidi-font-family: calibri\; mso-ansi-language: en">The<b style="mso-bidi-font-weight: normal"> Profit Mastery</b> seminar delivers unique and powerful financial and management training tools to <b style="mso-bidi-font-weight: normal">business owners\, managers and their advisors</b> to contribute to their overall success.<span style="mso-spacerun: yes">&nbsp\; </span>Key topics covered:<span style="mso-spacerun: yes">&nbsp\; </span>Financial statement analysis/interpretation\, financial forecasting methods &amp\; financing your future.</span></span></span></span></span></span><span style="line-height: 150%\; font-family: 'calibri'\, 'sans-serif'\; font-size: 11pt"><span style="line-height: 150%\; font-family: 'calibri'\, 'sans-serif'\; font-size: 11pt"><span lang="EN" style="mso-ascii-font-family: calibri\; mso-fareast-font-family: 'times new roman'\; mso-hansi-font-family: calibri\; mso-bidi-font-family: calibri\; mso-ansi-language: en"><o:p></o:p></span></span></span></p>\n<p class="MsoNormal" style="line-height: 150%\; margin: 0in 0in 10pt\; mso-margin-top-alt: auto\; mso-margin-bottom-alt: auto">\n	<span style="color: #696969"><span style="font-family: arial"><span style="font-size: 12px"><span style="line-height: 150%"><span style="line-height: 150%"><span lang="EN" style="mso-ascii-font-family: calibri\; mso-fareast-font-family: 'times new roman'\; mso-hansi-font-family: calibri\; mso-bidi-font-family: calibri\; mso-ansi-language: en">The&nbsp\;Profit Mastery&nbsp\;process provides information\, education and motivation to owners\, managers and advisors of independent business throughout the world.<span style="mso-spacerun: yes">&nbsp\;&nbsp\; </span>The mission: to create and deliver tools and resources that will guide you to <b style="mso-bidi-font-weight: normal">improve business performance in a constantly changing economy</b> and to assist you in overcoming what is consistently the greatest knowledge gap for business owners: finance. </span></span></span></span></span></span><span style="line-height: 150%\; font-family: 'calibri'\, 'sans-serif'\; font-size: 11pt"><span style="line-height: 150%\; font-family: 'calibri'\, 'sans-serif'\; font-size: 11pt"><span lang="EN" style="mso-ascii-font-family: calibri\; mso-fareast-font-family: 'times new roman'\; mso-hansi-font-family: calibri\; mso-bidi-font-family: calibri\; mso-ansi-language: en"><o:p></o:p></span></span></span></p>\n<p class="MsoNormal" style="line-height: 150%\; margin: 0in 0in 10pt\; mso-margin-top-alt: auto\; mso-margin-bottom-alt: auto">\n	<span style="color: #696969"><span style="font-family: arial"><span style="font-size: 12px"><span style="line-height: 150%"><span style="line-height: 150%"><span lang="EN" style="mso-ascii-font-family: calibri\; mso-fareast-font-family: 'times new roman'\; mso-hansi-font-family: calibri\; mso-bidi-font-family: calibri\; mso-ansi-language: en">Contact us &amp\; we&rsquo\;ll e-mail you a detailed brochure\, which also includes testimonials from past attendees.<span style="mso-spacerun: yes">&nbsp\; </span></span></span></span></span></span></span><span style="line-height: 150%\; font-family: 'calibri'\, 'sans-serif'\; font-size: 11pt"><span style="line-height: 150%\; font-family: 'calibri'\, 'sans-serif'\; font-size: 11pt"><span lang="EN" style="mso-ascii-font-family: calibri\; mso-fareast-font-family: 'times new roman'\; mso-hansi-font-family: calibri\; mso-bidi-font-family: calibri\; mso-ansi-language: en"><o:p></o:p></span></span></span></p>\n<p style="line-height: 150%">\n	<span style="color: #696969"><span style="font-family: arial"><span style="font-size: 12px"><span style="line-height: 150%">&nbsp\;&nbsp\;&nbsp\;&nbsp\;&nbsp\;&nbsp\;&nbsp\;&nbsp\;&nbsp\;&nbsp\;&nbsp\;&nbsp\;&nbsp\;&nbsp\;&nbsp\;&nbsp\;&nbsp\;&nbsp\;&nbsp\;&nbsp\;&nbsp\;&nbsp\;&nbsp\;&nbsp\;&nbsp\;&nbsp\;</span></span></span></span></p>\n
LOCATION:Wisconsin Community Bank 8240 Mineral Point road Madison\, WI 53719
UID:e.1220.2208
SEQUENCE:3
DTSTAMP:20260426T001102Z
URL:http://greatermadisonchamber.chambermaster.com/events/details/profit-mastery-practical-tools-for-control-survival-and-success-09-05-2012-2208
END:VEVENT

END:VCALENDAR
