BEGIN:VCALENDAR
VERSION:2.0
PRODID:-//ChamberMaster//Event Calendar 2.0//EN
METHOD:PUBLISH
X-PUBLISHED-TTL:P3D
REFRESH-INTERVAL:P3D
CALSCALE:GREGORIAN
BEGIN:VEVENT
DTSTART:20130905T190000Z
DTEND:20130905T203000Z
X-MICROSOFT-CDO-ALLDAYEVENT:FALSE
SUMMARY:Program Discovery - Nursing
DESCRIPTION:Attend this Program Discovery to learn more about our Nursing programs\, admission requirements and how to apply. The Program Discovery is for students interested in Nursing. Registration is required to attend. \n\n	\n\n	COMPASS academic placement testing is strongly encouraged prior for better explanation of requirements. Test dates can be found on our website at http://madisoncollege.edu/compass-information\n\n\nIf you have already been accepted into a program and you need assistance selecting classes\, make an individual appointment to meet with an Advisor. Contact the Student Development Center at (608) 246-6076 or sdc@madisoncollege.edu
X-ALT-DESC;FMTTYPE=text/html:<p style="margin: 0px\; padding: 0px\; color: rgb(0\, 49\, 98)\; line-height: 14.92px\; font-family: arial\; font-size: 11px\;">\n	Attend this Program Discovery to learn more about our Nursing programs\, admission requirements and how to apply. The Program Discovery is for students interested in Nursing.&nbsp\;<strong style="line-height: 1.4em\;">Registration is required to attend.</strong>&nbsp\;<br style="line-height: 1.4em\;" />\n	<br style="line-height: 1.4em\;" />\n	COMPASS academic placement testing is strongly encouraged prior for better explanation of requirements. Test dates can be found on our website at&nbsp\;<a href="http://madisoncollege.edu/compass-information" style="color: rgb(0\, 125\, 177)\; line-height: 1.4em\; text-decoration: none\;" target="_blank">http://madisoncollege.edu/compass-information</a></p>\n<br style="color: rgb(0\, 49\, 98)\; line-height: 14.92px\; font-family: arial\; font-size: 11px\;" />\n<span style="color: rgb(0\, 49\, 98)\; line-height: 14.92px\; font-family: arial\; font-size: 11px\;">If you have already been accepted into a program and you need assistance selecting classes\, make an individual appointment to meet with an Advisor. Contact the Student Development Center at (608) 246-6076 or&nbsp\;</span><a href="mailto:sdc@madisoncollege.edu" style="color: rgb(0\, 125\, 177)\; line-height: 14.92px\; font-family: arial\; font-size: 11px\; text-decoration: none\;" target="_blank">sdc@madisoncollege.edu</a>
LOCATION:Madison College Truax Main Building\, Room C1435B Madison\, WI 53704
UID:e.1220.3241
SEQUENCE:3
DTSTAMP:20260419T135117Z
URL:http://greatermadisonchamber.chambermaster.com/events/details/program-discovery-nursing-09-05-2013-3241
END:VEVENT

END:VCALENDAR
