BEGIN:VCALENDAR
VERSION:2.0
PRODID:-//ChamberMaster//Event Calendar 2.0//EN
METHOD:PUBLISH
X-PUBLISHED-TTL:P3D
REFRESH-INTERVAL:P3D
CALSCALE:GREGORIAN
BEGIN:VEVENT
DTSTART:20130909T213000Z
DTEND:20130909T233000Z
X-MICROSOFT-CDO-ALLDAYEVENT:FALSE
SUMMARY:Program Discovery - Veterinary Tech
DESCRIPTION:Attend this Program Discovery to learn more about our Veterinary Tech program\, admission requirements and how to apply. Registration is required to attend. \n\n\n\nCOMPASS testing is strongly encouraged prior for better explanation of requirements. Test dates can be found on our website at madisoncollege.edu . \n\n\n\nIf you've already been accepted into a program and you need assistance selecting classes\, make an individual appointment to meet with an Advisor.
X-ALT-DESC;FMTTYPE=text/html:<span style="color: rgb(0\, 49\, 98)\; line-height: 14.92px\; font-family: arial\; font-size: 11px\;">Attend this Program Discovery to learn more about our Veterinary Tech program\, admission requirements and how to apply.&nbsp\;</span><strong style="color: rgb(0\, 49\, 98)\; line-height: 14.92px\; font-family: arial\; font-size: 11px\;">Registration is required to attend.&nbsp\;</strong><br style="color: rgb(0\, 49\, 98)\; line-height: 14.92px\; font-family: arial\; font-size: 11px\;" />\n<br style="color: rgb(0\, 49\, 98)\; line-height: 14.92px\; font-family: arial\; font-size: 11px\;" />\n<span style="color: rgb(0\, 49\, 98)\; line-height: 14.92px\; font-family: arial\; font-size: 11px\;">COMPASS testing is strongly encouraged prior for better explanation of requirements. Test dates can be found on our website at&nbsp\;</span><a href="http://madisoncollege.edu/compass-information" style="color: rgb(0\, 125\, 177)\; line-height: 14.92px\; font-family: arial\; font-size: 11px\; text-decoration: none\;" target="_blank" title="http://madisoncollege.edu/compass-information">madisoncollege.edu&hellip\;</a><span style="color: rgb(0\, 49\, 98)\; line-height: 14.92px\; font-family: arial\; font-size: 11px\;">.&nbsp\;</span><br style="color: rgb(0\, 49\, 98)\; line-height: 14.92px\; font-family: arial\; font-size: 11px\;" />\n<br style="color: rgb(0\, 49\, 98)\; line-height: 14.92px\; font-family: arial\; font-size: 11px\;" />\n<span style="color: rgb(0\, 49\, 98)\; line-height: 14.92px\; font-family: arial\; font-size: 11px\;">If you&#39\;ve already been accepted into a program and you need assistance selecting classes\, make an individual appointment to meet with an Advisor.</span>
LOCATION:Madison College Truax Main Building\, Room E1828 1701 Wright Street Madison\, WI
UID:e.1220.3242
SEQUENCE:3
DTSTAMP:20260419T205119Z
URL:http://greatermadisonchamber.chambermaster.com/events/details/program-discovery-veterinary-tech-09-09-2013-3242
END:VEVENT

END:VCALENDAR
