BEGIN:VCALENDAR
VERSION:2.0
PRODID:-//ChamberMaster//Event Calendar 2.0//EN
METHOD:PUBLISH
X-PUBLISHED-TTL:P3D
REFRESH-INTERVAL:P3D
CALSCALE:GREGORIAN
BEGIN:VEVENT
DTSTART:20130208T000000Z
DTEND:20130308T030000Z
X-MICROSOFT-CDO-ALLDAYEVENT:FALSE
SUMMARY:Project Mgmt Fundamentals
DESCRIPTION:For new and experienced project managers\, learn how to: project plans\, functional requirements and identify the scope\, work breakdown structures and statement of work\, prepare estimates\, resource allocation models and monitor and control the project.
X-ALT-DESC;FMTTYPE=text/html:For new and experienced project managers\, learn how to: project plans\, functional requirements and identify the scope\, work breakdown structures and statement of work\, prepare estimates\, resource allocation models and monitor and control the project.
LOCATION:302 S. Gammon Rd. Madison\, WI 53717
UID:e.1220.2602
SEQUENCE:3
DTSTAMP:20260423T215331Z
URL:http://greatermadisonchamber.chambermaster.com/events/details/project-mgmt-fundamentals-02-07-2013-2602
END:VEVENT

END:VCALENDAR
