BEGIN:VCALENDAR
VERSION:2.0
PRODID:-//ChamberMaster//Event Calendar 2.0//EN
METHOD:PUBLISH
X-PUBLISHED-TTL:P3D
REFRESH-INTERVAL:P3D
CALSCALE:GREGORIAN
BEGIN:VEVENT
DTSTART:20130729T230000Z
DTEND:20130827T020000Z
X-MICROSOFT-CDO-ALLDAYEVENT:FALSE
SUMMARY:Project Mgmt Fundamentals
DESCRIPTION:For new and experienced project managers\, learn how to: project plans\, functional requirements and identify the scope\, work breakdown structures and statement of work\, prepare estimates\, resource allocation models and monitor and control the project.
X-ALT-DESC;FMTTYPE=text/html:For new and experienced project managers\, learn how to: project plans\, functional requirements and identify the scope\, work breakdown structures and statement of work\, prepare estimates\, resource allocation models and monitor and control the project.<br />\n
LOCATION:211 N. Carroll St. Madison\, WI 53703
UID:e.1220.2998
SEQUENCE:3
DTSTAMP:20260419T210417Z
URL:http://greatermadisonchamber.chambermaster.com/events/details/project-mgmt-fundamentals-07-29-2013-2998
END:VEVENT

END:VCALENDAR
