BEGIN:VCALENDAR
VERSION:2.0
PRODID:-//ChamberMaster//Event Calendar 2.0//EN
METHOD:PUBLISH
X-PUBLISHED-TTL:P3D
REFRESH-INTERVAL:P3D
CALSCALE:GREGORIAN
BEGIN:VEVENT
DTSTART:20130313T230000Z
DTEND:20130411T010000Z
X-MICROSOFT-CDO-ALLDAYEVENT:FALSE
SUMMARY:Publishing a Novel
DESCRIPTION:Students will learn how to format a manuscript to meet specifications for publishing a book in print or as an ebook. This includes learning how to format interior and exterior files using Microsoft Word. Students will also learn marketing tips in addition to discussing the pros and cons of self publishing a book.
X-ALT-DESC;FMTTYPE=text/html:<p>\n	Students will learn how to format a manuscript to meet specifications for publishing a book in print or as an ebook. This includes learning how to format interior and exterior files using Microsoft Word. Students will also learn marketing tips in addition to discussing the pros and cons of self publishing a book.</p>\n
LOCATION:302 S. Gammon Road Madison\, WI 53719
UID:e.1220.2686
SEQUENCE:3
DTSTAMP:20260425T130927Z
URL:http://greatermadisonchamber.chambermaster.com/events/details/publishing-a-novel-03-13-2013-2686
END:VEVENT

END:VCALENDAR
