BEGIN:VCALENDAR
VERSION:2.0
PRODID:-//ChamberMaster//Event Calendar 2.0//EN
METHOD:PUBLISH
X-PUBLISHED-TTL:P3D
REFRESH-INTERVAL:P3D
CALSCALE:GREGORIAN
BEGIN:VEVENT
DTSTART:20130605T230000Z
DTEND:20130704T010000Z
X-MICROSOFT-CDO-ALLDAYEVENT:FALSE
SUMMARY:Publishing a Novel
DESCRIPTION:Students will learn how to format a manuscript to meet specifications for publishing a book in print or as an ebook. This includes learning how to format interior and exterior files using Microsoft Word. Students will also learn marketing tips in addition to discussing the pros and cons of self publishing a book.
X-ALT-DESC;FMTTYPE=text/html:<p>\n	Students will learn how to format a manuscript to meet specifications for publishing a book in print or as an ebook. This includes learning how to format interior and exterior files using Microsoft Word. Students will also learn marketing tips in addition to discussing the pros and cons of self publishing a book.</p>\n
LOCATION:211 N. Carroll St.\, Madison\, WI. 53703
UID:e.1220.2952
SEQUENCE:3
DTSTAMP:20260424T105608Z
URL:http://greatermadisonchamber.chambermaster.com/events/details/publishing-a-novel-06-05-2013-2952
END:VEVENT

END:VCALENDAR
